BEGIN:VCALENDAR
VERSION:2.0
PRODID:-//HI-FI Indy - ECPv6.15.18//NONSGML v1.0//EN
CALSCALE:GREGORIAN
METHOD:PUBLISH
X-ORIGINAL-URL:https://hifiindy.com
X-WR-CALDESC:Events for HI-FI Indy
REFRESH-INTERVAL;VALUE=DURATION:PT1H
X-Robots-Tag:noindex
X-PUBLISHED-TTL:PT1H
BEGIN:VTIMEZONE
TZID:America/Indiana/Indianapolis
BEGIN:DAYLIGHT
TZOFFSETFROM:-0500
TZOFFSETTO:-0400
TZNAME:EDT
DTSTART:20210314T070000
END:DAYLIGHT
BEGIN:STANDARD
TZOFFSETFROM:-0400
TZOFFSETTO:-0500
TZNAME:EST
DTSTART:20211107T060000
END:STANDARD
BEGIN:DAYLIGHT
TZOFFSETFROM:-0500
TZOFFSETTO:-0400
TZNAME:EDT
DTSTART:20220313T070000
END:DAYLIGHT
BEGIN:STANDARD
TZOFFSETFROM:-0400
TZOFFSETTO:-0500
TZNAME:EST
DTSTART:20221106T060000
END:STANDARD
BEGIN:DAYLIGHT
TZOFFSETFROM:-0500
TZOFFSETTO:-0400
TZNAME:EDT
DTSTART:20230312T070000
END:DAYLIGHT
BEGIN:STANDARD
TZOFFSETFROM:-0400
TZOFFSETTO:-0500
TZNAME:EST
DTSTART:20231105T060000
END:STANDARD
END:VTIMEZONE
BEGIN:VEVENT
DTSTART;TZID=America/Indiana/Indianapolis:20220601T200000
DTEND;TZID=America/Indiana/Indianapolis:20220601T230000
DTSTAMP:20260420T165835
CREATED:20220328T160002Z
LAST-MODIFIED:20220526T003023Z
UID:15262-1654113600-1654124400@hifiindy.com
SUMMARY:Small Black
DESCRIPTION:
URL:https://hifiindy.com/event/small-black/
END:VEVENT
BEGIN:VEVENT
DTSTART;TZID=America/Indiana/Indianapolis:20220602T200000
DTEND;TZID=America/Indiana/Indianapolis:20220602T233000
DTSTAMP:20260420T165835
CREATED:20210728T160046Z
LAST-MODIFIED:20220518T203020Z
UID:13703-1654200000-1654212600@hifiindy.com
SUMMARY:Son Lux
DESCRIPTION:
URL:https://hifiindy.com/event/son-lux/
END:VEVENT
BEGIN:VEVENT
DTSTART;TZID=America/Indiana/Indianapolis:20220603T190000
DTEND;TZID=America/Indiana/Indianapolis:20220603T220000
DTSTAMP:20260420T165835
CREATED:20220322T140007Z
LAST-MODIFIED:20220601T011717Z
UID:15186-1654282800-1654293600@hifiindy.com
SUMMARY:Mike & The Moonpies
DESCRIPTION:
URL:https://hifiindy.com/event/mike-the-moonpies-2/
END:VEVENT
BEGIN:VEVENT
DTSTART;TZID=America/Indiana/Indianapolis:20220603T220000
DTEND;TZID=America/Indiana/Indianapolis:20220603T235900
DTSTAMP:20260420T165835
CREATED:20220418T140020Z
LAST-MODIFIED:20220602T161537Z
UID:15459-1654293600-1654300740@hifiindy.com
SUMMARY:FREE FIRST FRIDAY: Isaac Rudd and The Revolvers
DESCRIPTION:
URL:https://hifiindy.com/event/free-first-friday-isaac-rudd-and-the-revolvers/
END:VEVENT
BEGIN:VEVENT
DTSTART;TZID=America/Indiana/Indianapolis:20220604T180000
DTEND;TZID=America/Indiana/Indianapolis:20220604T220000
DTSTAMP:20260420T165835
CREATED:20220426T160031Z
LAST-MODIFIED:20220527T182348Z
UID:15527-1654365600-1654380000@hifiindy.com
SUMMARY:No Resolve
DESCRIPTION:
URL:https://hifiindy.com/event/no-resolve/
END:VEVENT
BEGIN:VEVENT
DTSTART;TZID=America/Indiana/Indianapolis:20220605T130000
DTEND;TZID=America/Indiana/Indianapolis:20220605T170000
DTSTAMP:20260420T165835
CREATED:20220418T143313Z
LAST-MODIFIED:20220531T184625Z
UID:15464-1654434000-1654448400@hifiindy.com
SUMMARY:Create Your Own Bonsai Brunch
DESCRIPTION:
URL:https://hifiindy.com/event/create-your-own-bonsai-brunch-3/
END:VEVENT
BEGIN:VEVENT
DTSTART;TZID=America/Indiana/Indianapolis:20220605T200000
DTEND;TZID=America/Indiana/Indianapolis:20220605T233000
DTSTAMP:20260420T165835
CREATED:20220222T200032Z
LAST-MODIFIED:20220601T203901Z
UID:15017-1654459200-1654471800@hifiindy.com
SUMMARY:Bob Log III
DESCRIPTION:
URL:https://hifiindy.com/event/bob-log-iii/
END:VEVENT
BEGIN:VEVENT
DTSTART;TZID=America/Indiana/Indianapolis:20220607T200000
DTEND;TZID=America/Indiana/Indianapolis:20220607T233000
DTSTAMP:20260420T165835
CREATED:20220208T170029Z
LAST-MODIFIED:20220210T140748Z
UID:14703-1654632000-1654644600@hifiindy.com
SUMMARY:Mess Esque
DESCRIPTION:
URL:https://hifiindy.com/event/mess-esque/
END:VEVENT
BEGIN:VEVENT
DTSTART;TZID=America/Indiana/Indianapolis:20220608T183000
DTEND;TZID=America/Indiana/Indianapolis:20220608T220000
DTSTAMP:20260420T165835
CREATED:20220301T150042Z
LAST-MODIFIED:20220511T214127Z
UID:15071-1654713000-1654725600@hifiindy.com
SUMMARY:PUP RETURNS: THANK F***ING GOD
DESCRIPTION:
URL:https://hifiindy.com/event/pup/
END:VEVENT
BEGIN:VEVENT
DTSTART;TZID=America/Indiana/Indianapolis:20220608T200000
DTEND;TZID=America/Indiana/Indianapolis:20220608T233000
DTSTAMP:20260420T165835
CREATED:20220218T144746Z
LAST-MODIFIED:20220531T182726Z
UID:14961-1654718400-1654731000@hifiindy.com
SUMMARY:The Red Clay Strays & Flying Buffaloes
DESCRIPTION:
URL:https://hifiindy.com/event/the-red-clay-strays-flying-buffaloes/
END:VEVENT
BEGIN:VEVENT
DTSTART;TZID=America/Indiana/Indianapolis:20220609T190000
DTEND;TZID=America/Indiana/Indianapolis:20220609T220000
DTSTAMP:20260420T165835
CREATED:20220221T180020Z
LAST-MODIFIED:20220606T220526Z
UID:14990-1654801200-1654812000@hifiindy.com
SUMMARY:Kings Kaleidoscope
DESCRIPTION:
URL:https://hifiindy.com/event/kings-kaleidoscope/
END:VEVENT
BEGIN:VEVENT
DTSTART;TZID=America/Indiana/Indianapolis:20220610T190000
DTEND;TZID=America/Indiana/Indianapolis:20220610T220000
DTSTAMP:20260420T165835
CREATED:20220425T160017Z
LAST-MODIFIED:20220426T105811Z
UID:15504-1654887600-1654898400@hifiindy.com
SUMMARY:Tropidelic
DESCRIPTION:
URL:https://hifiindy.com/event/tropidelic-3/
END:VEVENT
BEGIN:VEVENT
DTSTART;TZID=America/Indiana/Indianapolis:20220610T190000
DTEND;TZID=America/Indiana/Indianapolis:20220610T230000
DTSTAMP:20260420T165835
CREATED:20220418T150036Z
LAST-MODIFIED:20220418T172324Z
UID:15460-1654887600-1654902000@hifiindy.com
SUMMARY:We Were Promised Jetpacks
DESCRIPTION:
URL:https://hifiindy.com/event/we-were-promised-jetpacks-2/
END:VEVENT
BEGIN:VEVENT
DTSTART;TZID=America/Indiana/Indianapolis:20220611T221500
DTEND;TZID=America/Indiana/Indianapolis:20220611T230000
DTSTAMP:20260420T165835
CREATED:20220411T180036Z
LAST-MODIFIED:20220607T164407Z
UID:15336-1654985700-1654988400@hifiindy.com
SUMMARY:WonderRoad Aftershow: Reignwolf
DESCRIPTION:
URL:https://hifiindy.com/event/wonderroad-aftershow-reignwolf/
END:VEVENT
BEGIN:VEVENT
DTSTART;TZID=America/Indiana/Indianapolis:20220612T221500
DTEND;TZID=America/Indiana/Indianapolis:20220612T230000
DTSTAMP:20260420T165835
CREATED:20220411T180041Z
LAST-MODIFIED:20220607T164558Z
UID:15333-1655072100-1655074800@hifiindy.com
SUMMARY:WonderRoad Aftershow: The Blue Stones
DESCRIPTION:
URL:https://hifiindy.com/event/wonderroad-aftershow-the-blue-stones/
END:VEVENT
BEGIN:VEVENT
DTSTART;TZID=America/Indiana/Indianapolis:20220615T190000
DTEND;TZID=America/Indiana/Indianapolis:20220615T220000
DTSTAMP:20260420T165835
CREATED:20220502T170838Z
LAST-MODIFIED:20220526T024025Z
UID:15627-1655319600-1655330400@hifiindy.com
SUMMARY:Palisades
DESCRIPTION:
URL:https://hifiindy.com/event/palisades/
END:VEVENT
BEGIN:VEVENT
DTSTART;TZID=America/Indiana/Indianapolis:20220616T210000
DTEND;TZID=America/Indiana/Indianapolis:20220616T230000
DTSTAMP:20260420T165835
CREATED:20220406T140029Z
LAST-MODIFIED:20220616T163946Z
UID:15312-1655413200-1655420400@hifiindy.com
SUMMARY:David Ramirez
DESCRIPTION:
URL:https://hifiindy.com/event/david-ramirez/
END:VEVENT
BEGIN:VEVENT
DTSTART;TZID=America/Indiana/Indianapolis:20220617T190000
DTEND;TZID=America/Indiana/Indianapolis:20220617T220000
DTSTAMP:20260420T165835
CREATED:20220506T140317Z
LAST-MODIFIED:20220617T144727Z
UID:15665-1655492400-1655503200@hifiindy.com
SUMMARY:The Four Horsemen
DESCRIPTION:
URL:https://hifiindy.com/event/the-four-horsemen/
END:VEVENT
BEGIN:VEVENT
DTSTART;TZID=America/Indiana/Indianapolis:20220617T203000
DTEND;TZID=America/Indiana/Indianapolis:20220617T233000
DTSTAMP:20260420T165835
CREATED:20220422T220842Z
LAST-MODIFIED:20220615T192033Z
UID:15497-1655497800-1655508600@hifiindy.com
SUMMARY:Starbenders
DESCRIPTION:
URL:https://hifiindy.com/event/starbenders/
END:VEVENT
BEGIN:VEVENT
DTSTART;TZID=America/Indiana/Indianapolis:20220618T210000
DTEND;TZID=America/Indiana/Indianapolis:20220618T233000
DTSTAMP:20260420T165835
CREATED:20220412T170027Z
LAST-MODIFIED:20220617T202234Z
UID:15339-1655586000-1655595000@hifiindy.com
SUMMARY:Liily
DESCRIPTION:  \n 
URL:https://hifiindy.com/event/liily/
LOCATION:FOXD’LEGND
END:VEVENT
BEGIN:VEVENT
DTSTART;TZID=America/Indiana/Indianapolis:20220619T190000
DTEND;TZID=America/Indiana/Indianapolis:20220619T220000
DTSTAMP:20260420T165835
CREATED:20220509T140056Z
LAST-MODIFIED:20220614T202906Z
UID:15670-1655665200-1655676000@hifiindy.com
SUMMARY:An Evening with Big Head Todd and the Monsters
DESCRIPTION:
URL:https://hifiindy.com/event/an-evening-with-big-head-todd-and-the-monsters/
END:VEVENT
BEGIN:VEVENT
DTSTART;TZID=America/Indiana/Indianapolis:20220619T200000
DTEND;TZID=America/Indiana/Indianapolis:20220619T235900
DTSTAMP:20260420T165835
CREATED:20220510T160055Z
LAST-MODIFIED:20220609T164346Z
UID:15688-1655668800-1655683140@hifiindy.com
SUMMARY:Ben Nichols & Cory Branan
DESCRIPTION:
URL:https://hifiindy.com/event/ben-nichols-cory-branan/
END:VEVENT
BEGIN:VEVENT
DTSTART;TZID=America/Indiana/Indianapolis:20220621T200000
DTEND;TZID=America/Indiana/Indianapolis:20220621T230000
DTSTAMP:20260420T165836
CREATED:20220427T160504Z
LAST-MODIFIED:20220620T151428Z
UID:15563-1655841600-1655852400@hifiindy.com
SUMMARY:Fruition
DESCRIPTION:
URL:https://hifiindy.com/event/fruition-2/
END:VEVENT
BEGIN:VEVENT
DTSTART;TZID=America/Indiana/Indianapolis:20220622T190000
DTEND;TZID=America/Indiana/Indianapolis:20220622T220000
DTSTAMP:20260420T165836
CREATED:20220405T140045Z
LAST-MODIFIED:20220421T191250Z
UID:15306-1655924400-1655935200@hifiindy.com
SUMMARY:Cracker
DESCRIPTION:
URL:https://hifiindy.com/event/cracker-2/
END:VEVENT
BEGIN:VEVENT
DTSTART;TZID=America/Indiana/Indianapolis:20220623T200000
DTEND;TZID=America/Indiana/Indianapolis:20220623T233000
DTSTAMP:20260420T165836
CREATED:20220323T140019Z
LAST-MODIFIED:20220623T160256Z
UID:15194-1656014400-1656027000@hifiindy.com
SUMMARY:The Soul Rebels
DESCRIPTION:
URL:https://hifiindy.com/event/the-soul-rebels-2/
END:VEVENT
BEGIN:VEVENT
DTSTART;TZID=America/Indiana/Indianapolis:20220624T190000
DTEND;TZID=America/Indiana/Indianapolis:20220624T220000
DTSTAMP:20260420T165836
CREATED:20220509T140030Z
LAST-MODIFIED:20220509T140113Z
UID:15672-1656097200-1656108000@hifiindy.com
SUMMARY:Smells Like Nirvana (A Tribute to Nirvana)
DESCRIPTION:
URL:https://hifiindy.com/event/smells-like-nirvana-a-tribute-to-nirvana/
END:VEVENT
BEGIN:VEVENT
DTSTART;TZID=America/Indiana/Indianapolis:20220624T190000
DTEND;TZID=America/Indiana/Indianapolis:20220624T233000
DTSTAMP:20260420T165836
CREATED:20220308T184952Z
LAST-MODIFIED:20220418T160351Z
UID:15135-1656097200-1656113400@hifiindy.com
SUMMARY:Madison Cunningham
DESCRIPTION:
URL:https://hifiindy.com/event/madison-cunningham/
END:VEVENT
BEGIN:VEVENT
DTSTART;TZID=America/Indiana/Indianapolis:20220625T190000
DTEND;TZID=America/Indiana/Indianapolis:20220625T220000
DTSTAMP:20260420T165836
CREATED:20220504T142102Z
LAST-MODIFIED:20220623T041009Z
UID:15639-1656183600-1656194400@hifiindy.com
SUMMARY:Hank Ruff
DESCRIPTION:
URL:https://hifiindy.com/event/hank-ruff/
END:VEVENT
BEGIN:VEVENT
DTSTART;TZID=America/Indiana/Indianapolis:20220625T210000
DTEND;TZID=America/Indiana/Indianapolis:20220625T233000
DTSTAMP:20260420T165836
CREATED:20220111T150042Z
LAST-MODIFIED:20220602T020109Z
UID:14360-1656190800-1656199800@hifiindy.com
SUMMARY:Emily Wells
DESCRIPTION:
URL:https://hifiindy.com/event/emily-wells/
END:VEVENT
BEGIN:VEVENT
DTSTART;TZID=America/Indiana/Indianapolis:20220628T200000
DTEND;TZID=America/Indiana/Indianapolis:20220628T230000
DTSTAMP:20260420T165836
CREATED:20220513T143142Z
LAST-MODIFIED:20220623T053724Z
UID:15744-1656446400-1656457200@hifiindy.com
SUMMARY:Owen
DESCRIPTION:
URL:https://hifiindy.com/event/owen/
END:VEVENT
END:VCALENDAR