BEGIN:VCALENDAR
VERSION:2.0
PRODID:-//HI-FI Indy - ECPv6.15.18//NONSGML v1.0//EN
CALSCALE:GREGORIAN
METHOD:PUBLISH
X-WR-CALNAME:HI-FI Indy
X-ORIGINAL-URL:https://hifiindy.com
X-WR-CALDESC:Events for HI-FI Indy
REFRESH-INTERVAL;VALUE=DURATION:PT1H
X-Robots-Tag:noindex
X-PUBLISHED-TTL:PT1H
BEGIN:VTIMEZONE
TZID:America/Indiana/Indianapolis
BEGIN:DAYLIGHT
TZOFFSETFROM:-0500
TZOFFSETTO:-0400
TZNAME:EDT
DTSTART:20210314T070000
END:DAYLIGHT
BEGIN:STANDARD
TZOFFSETFROM:-0400
TZOFFSETTO:-0500
TZNAME:EST
DTSTART:20211107T060000
END:STANDARD
BEGIN:DAYLIGHT
TZOFFSETFROM:-0500
TZOFFSETTO:-0400
TZNAME:EDT
DTSTART:20220313T070000
END:DAYLIGHT
BEGIN:STANDARD
TZOFFSETFROM:-0400
TZOFFSETTO:-0500
TZNAME:EST
DTSTART:20221106T060000
END:STANDARD
BEGIN:DAYLIGHT
TZOFFSETFROM:-0500
TZOFFSETTO:-0400
TZNAME:EDT
DTSTART:20230312T070000
END:DAYLIGHT
BEGIN:STANDARD
TZOFFSETFROM:-0400
TZOFFSETTO:-0500
TZNAME:EST
DTSTART:20231105T060000
END:STANDARD
END:VTIMEZONE
BEGIN:VEVENT
DTSTART;TZID=America/Indiana/Indianapolis:20220701T080000
DTEND;TZID=America/Indiana/Indianapolis:20220701T170000
DTSTAMP:20260420T151715
CREATED:20220328T170029Z
LAST-MODIFIED:20220629T201658Z
UID:15250-1656662400-1656694800@hifiindy.com
SUMMARY:Into It. Over It.
DESCRIPTION:
URL:https://hifiindy.com/event/into-it-over-it/
END:VEVENT
BEGIN:VEVENT
DTSTART;TZID=America/Indiana/Indianapolis:20220701T190000
DTEND;TZID=America/Indiana/Indianapolis:20220701T220000
DTSTAMP:20260420T151715
CREATED:20220404T150039Z
LAST-MODIFIED:20220506T171659Z
UID:15302-1656702000-1656712800@hifiindy.com
SUMMARY:FREE FIRST FRIDAY: An Evening With Jukebox Luke
DESCRIPTION:
URL:https://hifiindy.com/event/free-first-friday-an-evening-with-jukebox-luke/
END:VEVENT
BEGIN:VEVENT
DTSTART;TZID=America/Indiana/Indianapolis:20220702T190000
DTEND;TZID=America/Indiana/Indianapolis:20220702T220000
DTSTAMP:20260420T151715
CREATED:20220315T140028Z
LAST-MODIFIED:20220325T205938Z
UID:15161-1656788400-1656799200@hifiindy.com
SUMMARY:A Grateful Evening With Hyryder
DESCRIPTION:
URL:https://hifiindy.com/event/a-grateful-evening-with-hyryder/
END:VEVENT
BEGIN:VEVENT
DTSTART;TZID=America/Indiana/Indianapolis:20220702T210000
DTEND;TZID=America/Indiana/Indianapolis:20220702T233000
DTSTAMP:20260420T151715
CREATED:20220321T140011Z
LAST-MODIFIED:20220616T174927Z
UID:15184-1656795600-1656804600@hifiindy.com
SUMMARY:Cam Cole
DESCRIPTION:
URL:https://hifiindy.com/event/cam-cole/
END:VEVENT
BEGIN:VEVENT
DTSTART;TZID=America/Indiana/Indianapolis:20220705T190000
DTEND;TZID=America/Indiana/Indianapolis:20220705T223000
DTSTAMP:20260420T151715
CREATED:20220418T140003Z
LAST-MODIFIED:20220705T192850Z
UID:14351-1657047600-1657060200@hifiindy.com
SUMMARY:Joshua Ray Walker
DESCRIPTION:
URL:https://hifiindy.com/event/joshua-ray-walker/
END:VEVENT
BEGIN:VEVENT
DTSTART;TZID=America/Indiana/Indianapolis:20220706T200000
DTEND;TZID=America/Indiana/Indianapolis:20220706T235900
DTSTAMP:20260420T151715
CREATED:20220328T160021Z
LAST-MODIFIED:20220621T170926Z
UID:15260-1657137600-1657151940@hifiindy.com
SUMMARY:Man Man
DESCRIPTION:
URL:https://hifiindy.com/event/man-man/
END:VEVENT
BEGIN:VEVENT
DTSTART;TZID=America/Indiana/Indianapolis:20220707T190000
DTEND;TZID=America/Indiana/Indianapolis:20220707T220000
DTSTAMP:20260420T151715
CREATED:20220428T140004Z
LAST-MODIFIED:20220818T150845Z
UID:13595-1657220400-1657231200@hifiindy.com
SUMMARY:An Evening with Helmet
DESCRIPTION:
URL:https://hifiindy.com/event/helmet2022/
END:VEVENT
BEGIN:VEVENT
DTSTART;TZID=America/Indiana/Indianapolis:20220707T203000
DTEND;TZID=America/Indiana/Indianapolis:20220707T235900
DTSTAMP:20260420T151715
CREATED:20220317T140708Z
LAST-MODIFIED:20220624T153437Z
UID:15177-1657225800-1657238340@hifiindy.com
SUMMARY:Rock E. Bassoon
DESCRIPTION:
URL:https://hifiindy.com/event/rock-e-bassoon-2/
END:VEVENT
BEGIN:VEVENT
DTSTART;TZID=America/Indiana/Indianapolis:20220708T200000
DTEND;TZID=America/Indiana/Indianapolis:20220708T235900
DTSTAMP:20260420T151715
CREATED:20220321T140013Z
LAST-MODIFIED:20220708T173242Z
UID:15182-1657310400-1657324740@hifiindy.com
SUMMARY:Muscadine Bloodline
DESCRIPTION:
URL:https://hifiindy.com/event/muscadine-bloodline/
END:VEVENT
BEGIN:VEVENT
DTSTART;TZID=America/Indiana/Indianapolis:20220709T210000
DTEND;TZID=America/Indiana/Indianapolis:20220709T233000
DTSTAMP:20260420T151715
CREATED:20220411T140019Z
LAST-MODIFIED:20220705T200215Z
UID:15332-1657400400-1657409400@hifiindy.com
SUMMARY:Shawn James
DESCRIPTION:
URL:https://hifiindy.com/event/shawn-james/
END:VEVENT
BEGIN:VEVENT
DTSTART;TZID=America/Indiana/Indianapolis:20220713T190000
DTEND;TZID=America/Indiana/Indianapolis:20220713T220000
DTSTAMP:20260420T151715
CREATED:20220322T140001Z
LAST-MODIFIED:20220711T143558Z
UID:15193-1657738800-1657749600@hifiindy.com
SUMMARY:Marc Broussard
DESCRIPTION:
URL:https://hifiindy.com/event/marc-broussard-2/
END:VEVENT
BEGIN:VEVENT
DTSTART;TZID=America/Indiana/Indianapolis:20220714T200000
DTEND;TZID=America/Indiana/Indianapolis:20220714T233000
DTSTAMP:20260420T151715
CREATED:20220518T155854Z
LAST-MODIFIED:20220707T200256Z
UID:15815-1657828800-1657841400@hifiindy.com
SUMMARY:Mickey Avalon
DESCRIPTION:
URL:https://hifiindy.com/event/mickey-avalon/
END:VEVENT
BEGIN:VEVENT
DTSTART;TZID=America/Indiana/Indianapolis:20220715T190000
DTEND;TZID=America/Indiana/Indianapolis:20220715T235900
DTSTAMP:20260420T151715
CREATED:20220601T150019Z
LAST-MODIFIED:20220707T212634Z
UID:15962-1657911600-1657929540@hifiindy.com
SUMMARY:MISSIO - #gimmeakiss Tour
DESCRIPTION:
URL:https://hifiindy.com/event/missio-gimmeakiss-tour/
END:VEVENT
BEGIN:VEVENT
DTSTART;TZID=America/Indiana/Indianapolis:20220715T200000
DTEND;TZID=America/Indiana/Indianapolis:20220715T235900
DTSTAMP:20260420T151715
CREATED:20220601T170037Z
LAST-MODIFIED:20220714T142508Z
UID:15852-1657915200-1657929540@hifiindy.com
SUMMARY:Arlo McKinley
DESCRIPTION:did
URL:https://hifiindy.com/event/arlo-mckinley-3/
END:VEVENT
BEGIN:VEVENT
DTSTART;TZID=America/Indiana/Indianapolis:20220716T193000
DTEND;TZID=America/Indiana/Indianapolis:20220716T220000
DTSTAMP:20260420T151715
CREATED:20220426T140017Z
LAST-MODIFIED:20220716T185250Z
UID:15521-1657999800-1658008800@hifiindy.com
SUMMARY:Adrian Belew
DESCRIPTION:
URL:https://hifiindy.com/event/adrian-belew/
END:VEVENT
BEGIN:VEVENT
DTSTART;TZID=America/Indiana/Indianapolis:20220717T200000
DTEND;TZID=America/Indiana/Indianapolis:20220717T233000
DTSTAMP:20260420T151715
CREATED:20220419T140044Z
LAST-MODIFIED:20220717T150922Z
UID:15469-1658088000-1658100600@hifiindy.com
SUMMARY:John Moreland
DESCRIPTION:
URL:https://hifiindy.com/event/john-moreland-2/
END:VEVENT
BEGIN:VEVENT
DTSTART;TZID=America/Indiana/Indianapolis:20220719T200000
DTEND;TZID=America/Indiana/Indianapolis:20220719T235900
DTSTAMP:20260420T151715
CREATED:20220304T170006Z
LAST-MODIFIED:20220718T163449Z
UID:15096-1658260800-1658275140@hifiindy.com
SUMMARY:mc chris
DESCRIPTION:
URL:https://hifiindy.com/event/mc-chris/
END:VEVENT
BEGIN:VEVENT
DTSTART;TZID=America/Indiana/Indianapolis:20220721T190000
DTEND;TZID=America/Indiana/Indianapolis:20220721T220000
DTSTAMP:20260420T151715
CREATED:20220503T160011Z
LAST-MODIFIED:20220721T151358Z
UID:15629-1658430000-1658440800@hifiindy.com
SUMMARY:Trouble No More: Performing Allman Brothers Band's "Eat A Peach"
DESCRIPTION:
URL:https://hifiindy.com/event/trouble-no-more-the-music-of-allman-brothers-band/
END:VEVENT
BEGIN:VEVENT
DTSTART;TZID=America/Indiana/Indianapolis:20220722T210000
DTEND;TZID=America/Indiana/Indianapolis:20220722T235900
DTSTAMP:20260420T151715
CREATED:20220510T150009Z
LAST-MODIFIED:20220718T145841Z
UID:15684-1658523600-1658534340@hifiindy.com
SUMMARY:DURRY
DESCRIPTION:  \n  \n 
URL:https://hifiindy.com/event/durry/
END:VEVENT
BEGIN:VEVENT
DTSTART;TZID=America/Indiana/Indianapolis:20220723T200000
DTEND;TZID=America/Indiana/Indianapolis:20220723T230000
DTSTAMP:20260420T151715
CREATED:20220307T150047Z
LAST-MODIFIED:20220706T010313Z
UID:15104-1658606400-1658617200@hifiindy.com
SUMMARY:Wolftooth
DESCRIPTION:
URL:https://hifiindy.com/event/wolftooth/
END:VEVENT
BEGIN:VEVENT
DTSTART;TZID=America/Indiana/Indianapolis:20220727T190000
DTEND;TZID=America/Indiana/Indianapolis:20220727T220000
DTSTAMP:20260420T151715
CREATED:20220607T160025Z
LAST-MODIFIED:20220712T150010Z
UID:15985-1658948400-1658959200@hifiindy.com
SUMMARY:White Denim
DESCRIPTION:
URL:https://hifiindy.com/event/white-denim/
END:VEVENT
BEGIN:VEVENT
DTSTART;TZID=America/Indiana/Indianapolis:20220730T210000
DTEND;TZID=America/Indiana/Indianapolis:20220730T233000
DTSTAMP:20260420T151715
CREATED:20220428T140001Z
LAST-MODIFIED:20221110T201631Z
UID:15572-1659214800-1659223800@hifiindy.com
SUMMARY:The Heavy Hours
DESCRIPTION:
URL:https://hifiindy.com/event/the-heavy-hours/
END:VEVENT
END:VCALENDAR