BEGIN:VCALENDAR
VERSION:2.0
PRODID:-//HI-FI Indy - ECPv6.15.18//NONSGML v1.0//EN
CALSCALE:GREGORIAN
METHOD:PUBLISH
X-WR-CALNAME:HI-FI Indy
X-ORIGINAL-URL:https://hifiindy.com
X-WR-CALDESC:Events for HI-FI Indy
REFRESH-INTERVAL;VALUE=DURATION:PT1H
X-Robots-Tag:noindex
X-PUBLISHED-TTL:PT1H
BEGIN:VTIMEZONE
TZID:America/Indiana/Indianapolis
BEGIN:DAYLIGHT
TZOFFSETFROM:-0500
TZOFFSETTO:-0400
TZNAME:EDT
DTSTART:20210314T070000
END:DAYLIGHT
BEGIN:STANDARD
TZOFFSETFROM:-0400
TZOFFSETTO:-0500
TZNAME:EST
DTSTART:20211107T060000
END:STANDARD
BEGIN:DAYLIGHT
TZOFFSETFROM:-0500
TZOFFSETTO:-0400
TZNAME:EDT
DTSTART:20220313T070000
END:DAYLIGHT
BEGIN:STANDARD
TZOFFSETFROM:-0400
TZOFFSETTO:-0500
TZNAME:EST
DTSTART:20221106T060000
END:STANDARD
BEGIN:DAYLIGHT
TZOFFSETFROM:-0500
TZOFFSETTO:-0400
TZNAME:EDT
DTSTART:20230312T070000
END:DAYLIGHT
BEGIN:STANDARD
TZOFFSETFROM:-0400
TZOFFSETTO:-0500
TZNAME:EST
DTSTART:20231105T060000
END:STANDARD
END:VTIMEZONE
BEGIN:VEVENT
DTSTART;TZID=America/Indiana/Indianapolis:20220401T190000
DTEND;TZID=America/Indiana/Indianapolis:20220401T210000
DTSTAMP:20260420T204013
CREATED:20220224T150033Z
LAST-MODIFIED:20220224T155850Z
UID:15028-1648839600-1648846800@hifiindy.com
SUMMARY:The Northern Kentucky Derby
DESCRIPTION:
URL:https://hifiindy.com/event/the-northern-kentucky-derby/
LOCATION:FOXD’LEGND
END:VEVENT
BEGIN:VEVENT
DTSTART;TZID=America/Indiana/Indianapolis:20220401T210000
DTEND;TZID=America/Indiana/Indianapolis:20220401T233000
DTSTAMP:20260420T204013
CREATED:20211214T165827Z
LAST-MODIFIED:20220329T020004Z
UID:14332-1648846800-1648855800@hifiindy.com
SUMMARY:SOLD OUT: Cannons
DESCRIPTION:
URL:https://hifiindy.com/event/cannons/
END:VEVENT
BEGIN:VEVENT
DTSTART;TZID=America/Indiana/Indianapolis:20220402T210000
DTEND;TZID=America/Indiana/Indianapolis:20220402T233000
DTSTAMP:20260420T204013
CREATED:20210811T140044Z
LAST-MODIFIED:20220220T221510Z
UID:13798-1648933200-1648942200@hifiindy.com
SUMMARY:Lala Lala
DESCRIPTION:
URL:https://hifiindy.com/event/lala-lala/
END:VEVENT
BEGIN:VEVENT
DTSTART;TZID=America/Indiana/Indianapolis:20220403T200000
DTEND;TZID=America/Indiana/Indianapolis:20220403T233000
DTSTAMP:20260420T204013
CREATED:20211109T170025Z
LAST-MODIFIED:20211109T171727Z
UID:14177-1649016000-1649028600@hifiindy.com
SUMMARY:Nation of Language
DESCRIPTION:
URL:https://hifiindy.com/event/nation-of-language/
END:VEVENT
BEGIN:VEVENT
DTSTART;TZID=America/Indiana/Indianapolis:20220404T193000
DTEND;TZID=America/Indiana/Indianapolis:20220404T230000
DTSTAMP:20260420T204013
CREATED:20220209T150031Z
LAST-MODIFIED:20220404T132252Z
UID:14710-1649100600-1649113200@hifiindy.com
SUMMARY:Obituary
DESCRIPTION:
URL:https://hifiindy.com/event/obituary/
END:VEVENT
BEGIN:VEVENT
DTSTART;TZID=America/Indiana/Indianapolis:20220405T200000
DTEND;TZID=America/Indiana/Indianapolis:20220405T233000
DTSTAMP:20260420T204013
CREATED:20220210T150059Z
LAST-MODIFIED:20220320T235956Z
UID:14775-1649188800-1649201400@hifiindy.com
SUMMARY:The Schizophonics
DESCRIPTION:
URL:https://hifiindy.com/event/the-schizophonics/
END:VEVENT
BEGIN:VEVENT
DTSTART;TZID=America/Indiana/Indianapolis:20220406T190000
DTEND;TZID=America/Indiana/Indianapolis:20220406T233000
DTSTAMP:20260420T204013
CREATED:20220118T170006Z
LAST-MODIFIED:20220406T191144Z
UID:12324-1649271600-1649287800@hifiindy.com
SUMMARY:Delta Spirit
DESCRIPTION:Delta Spirit’s Indianapolis show at HI-FI has been rescheduled to April 30\, 2021.  All tickets purchased for the original date will be honored on the rescheduled date.  Please direct any questions to boxoffice@mokbpresents.com. You can follow our ongoing list of affected shows here: http://bit.ly/mokb-hifi-covid19updates \n————————— \nDOORS: 8:00 PM\, SHOW: 9:00 PM \nAGE RESTRICTIONS: 21+ \nGENERAL ADMISSION\, LIMITED SEATING \nImportant Notice: All tickets are nonrefundable and nontransferable. Support acts are subject to change. \n—————————- \nAbout Delta Spirit: \nListen | Watch Video \nPitching its style between indie rock and alt-country\, Delta Spirit features bassist Jon Jameson\, drummer Brandon Young\, vocalist Matthew Vasquez\, multi-instrumentalist/vocalist Kelly Winrich\, and guitarist Will McLaren. The band began when Jameson and Young’s former band\, the San Diego-based emo outfit Noise Ratchet\, called it quits in 2004. Seeking a rootsy sound\, the pair joined forces with Vasquez\, Winrich\, and founding guitarist Sean Walker. In 2006\, the band issued their debut EP\, I Think I’ve Found It\, and hit the road alongside Cold War Kids and Dr. Dog. The following year\, they self-released their first full-length Ode to Sunshine; after Delta Spirit signed to Rounder Records\, the label reissued a remastered version of the album in 2008. \nEarning acclaim for their recordings as well as their live show\, the band began recording songs for its second album at Prairie Sun Studios in 2009. The finished product\, History from Below\, was released in June 2010. Just before Delta Spirit’s self-titled third album arrived in 2012\, Walker left. Soon after\, they moved from Long Beach\, California to Brooklyn\, New York. In 2013\, the group contributed an exclusive song\, “Running\,” to the soundtrack of the AMC show “The Walking Dead.” \nDelta Spirit returned in 2014 with Into the Wide\, a darker\, heavier set of songs written and recorded in the practice space they’d rebuilt near an Atlanta shipping yard after Hurricane Sandy’s devastation. It was recorded with producer Ben Allen (who has also worked with Animal Collective and Deerhunter). It became their most successful album yet\, both commercially and critically\, and Vasquez also began recording solo singles and EPs\, culminating albums Solicitor Returns (2016)\, Does What He Wants (2017) and Light’n Up (2019).
URL:https://hifiindy.com/event/delta-spirit-2/
END:VEVENT
BEGIN:VEVENT
DTSTART;TZID=America/Indiana/Indianapolis:20220408T200000
DTEND;TZID=America/Indiana/Indianapolis:20220408T230000
DTSTAMP:20260420T204013
CREATED:20220201T150049Z
LAST-MODIFIED:20220407T191753Z
UID:14599-1649448000-1649458800@hifiindy.com
SUMMARY:Mom Rock
DESCRIPTION:
URL:https://hifiindy.com/event/mom-rock/
END:VEVENT
BEGIN:VEVENT
DTSTART;TZID=America/Indiana/Indianapolis:20220409T200000
DTEND;TZID=America/Indiana/Indianapolis:20220409T230000
DTSTAMP:20260420T204013
CREATED:20211116T160006Z
LAST-MODIFIED:20220408T212532Z
UID:14204-1649534400-1649545200@hifiindy.com
SUMMARY:Will Hoge
DESCRIPTION:
URL:https://hifiindy.com/event/will-hoge/
END:VEVENT
BEGIN:VEVENT
DTSTART;TZID=America/Indiana/Indianapolis:20220410T200000
DTEND;TZID=America/Indiana/Indianapolis:20220410T233000
DTSTAMP:20260420T204013
CREATED:20211203T163033Z
LAST-MODIFIED:20220324T200713Z
UID:14283-1649620800-1649633400@hifiindy.com
SUMMARY:El Ten Eleven
DESCRIPTION:
URL:https://hifiindy.com/event/el-ten-eleven-2/
END:VEVENT
BEGIN:VEVENT
DTSTART;TZID=America/Indiana/Indianapolis:20220413T200000
DTEND;TZID=America/Indiana/Indianapolis:20220413T233000
DTSTAMP:20260420T204013
CREATED:20220225T180020Z
LAST-MODIFIED:20220411T180702Z
UID:15066-1649880000-1649892600@hifiindy.com
SUMMARY:Joe Pug
DESCRIPTION:
URL:https://hifiindy.com/event/joe-pug/
END:VEVENT
BEGIN:VEVENT
DTSTART;TZID=America/Indiana/Indianapolis:20220414T190000
DTEND;TZID=America/Indiana/Indianapolis:20220414T220000
DTSTAMP:20260420T204013
CREATED:20220308T150007Z
LAST-MODIFIED:20220414T184053Z
UID:15131-1649962800-1649973600@hifiindy.com
SUMMARY:Carriers / Twen
DESCRIPTION:
URL:https://hifiindy.com/event/carriers-twen-2/
LOCATION:FOXD’LEGND
END:VEVENT
BEGIN:VEVENT
DTSTART;TZID=America/Indiana/Indianapolis:20220415T190000
DTEND;TZID=America/Indiana/Indianapolis:20220415T213000
DTSTAMP:20260420T204013
CREATED:20220302T150015Z
LAST-MODIFIED:20220411T175705Z
UID:15088-1650049200-1650058200@hifiindy.com
SUMMARY:Jessie Phelps
DESCRIPTION:
URL:https://hifiindy.com/event/jessie-phelps/
LOCATION:FOXD’LEGND
END:VEVENT
BEGIN:VEVENT
DTSTART;TZID=America/Indiana/Indianapolis:20220415T210000
DTEND;TZID=America/Indiana/Indianapolis:20220415T233000
DTSTAMP:20260420T204013
CREATED:20220223T150027Z
LAST-MODIFIED:20220321T180420Z
UID:15020-1650056400-1650065400@hifiindy.com
SUMMARY:Audiodacity
DESCRIPTION:
URL:https://hifiindy.com/event/audiodacity/
END:VEVENT
BEGIN:VEVENT
DTSTART;TZID=America/Indiana/Indianapolis:20220416T190000
DTEND;TZID=America/Indiana/Indianapolis:20220416T220000
DTSTAMP:20260420T204013
CREATED:20220325T150001Z
LAST-MODIFIED:20220325T150114Z
UID:15227-1650135600-1650146400@hifiindy.com
SUMMARY:Create Your Own Bonsai
DESCRIPTION:
URL:https://hifiindy.com/event/create-your-own-bonsai/
LOCATION:FOXD’LEGND
END:VEVENT
BEGIN:VEVENT
DTSTART;TZID=America/Indiana/Indianapolis:20220416T200000
DTEND;TZID=America/Indiana/Indianapolis:20220416T233000
DTSTAMP:20260420T204013
CREATED:20211209T150033Z
LAST-MODIFIED:20220406T205752Z
UID:14310-1650139200-1650151800@hifiindy.com
SUMMARY:Justin Wells & Cole Chaney
DESCRIPTION:
URL:https://hifiindy.com/event/justin-wells-3/
END:VEVENT
BEGIN:VEVENT
DTSTART;TZID=America/Indiana/Indianapolis:20220419T190000
DTEND;TZID=America/Indiana/Indianapolis:20220419T210000
DTSTAMP:20260420T204013
CREATED:20220224T150029Z
LAST-MODIFIED:20220224T150116Z
UID:15030-1650394800-1650402000@hifiindy.com
SUMMARY:Maya Lucia
DESCRIPTION:
URL:https://hifiindy.com/event/maya-lucia/
LOCATION:FOXD’LEGND
END:VEVENT
BEGIN:VEVENT
DTSTART;TZID=America/Indiana/Indianapolis:20220420T190000
DTEND;TZID=America/Indiana/Indianapolis:20220420T200000
DTSTAMP:20260420T204013
CREATED:20220215T150021Z
LAST-MODIFIED:20220217T193517Z
UID:14852-1650481200-1650484800@hifiindy.com
SUMMARY:81355 - 420 Celebration
DESCRIPTION:
URL:https://hifiindy.com/event/81355-420-celebration/
END:VEVENT
BEGIN:VEVENT
DTSTART;TZID=America/Indiana/Indianapolis:20220422T180000
DTEND;TZID=America/Indiana/Indianapolis:20220422T220000
DTSTAMP:20260420T204013
CREATED:20220325T150018Z
LAST-MODIFIED:20220421T195120Z
UID:12970-1650650400-1650664800@hifiindy.com
SUMMARY:HI-FI Annex Opening Night - Ovrslept & More
DESCRIPTION:
URL:https://hifiindy.com/event/hi-fi-annex-opening-night-2022/
END:VEVENT
BEGIN:VEVENT
DTSTART;TZID=America/Indiana/Indianapolis:20220422T210000
DTEND;TZID=America/Indiana/Indianapolis:20220422T233000
DTSTAMP:20260420T204013
CREATED:20220314T135459Z
LAST-MODIFIED:20220421T002438Z
UID:15160-1650661200-1650670200@hifiindy.com
SUMMARY:Dylan LeBlanc
DESCRIPTION:
URL:https://hifiindy.com/event/dylan-leblanc/
END:VEVENT
BEGIN:VEVENT
DTSTART;TZID=America/Indiana/Indianapolis:20220423T190000
DTEND;TZID=America/Indiana/Indianapolis:20220423T220000
DTSTAMP:20260420T204013
CREATED:20220307T150004Z
LAST-MODIFIED:20220307T150454Z
UID:15105-1650740400-1650751200@hifiindy.com
SUMMARY:Dizgo w/ Kick The Cat
DESCRIPTION:
URL:https://hifiindy.com/event/dizgo-3/
END:VEVENT
BEGIN:VEVENT
DTSTART;TZID=America/Indiana/Indianapolis:20220423T190000
DTEND;TZID=America/Indiana/Indianapolis:20220423T233000
DTSTAMP:20260420T204013
CREATED:20220207T144558Z
LAST-MODIFIED:20220420T193436Z
UID:14691-1650740400-1650756600@hifiindy.com
SUMMARY:Caitlyn Smith
DESCRIPTION:
URL:https://hifiindy.com/event/caitlyn-smith/
END:VEVENT
BEGIN:VEVENT
DTSTART;TZID=America/Indiana/Indianapolis:20220424T200000
DTEND;TZID=America/Indiana/Indianapolis:20220424T233000
DTSTAMP:20260420T204013
CREATED:20210804T170054Z
LAST-MODIFIED:20220406T203358Z
UID:13758-1650830400-1650843000@hifiindy.com
SUMMARY:John Mark McMillan
DESCRIPTION:
URL:https://hifiindy.com/event/john-mark-mcmillan/
END:VEVENT
BEGIN:VEVENT
DTSTART;TZID=America/Indiana/Indianapolis:20220428T200000
DTEND;TZID=America/Indiana/Indianapolis:20220428T233000
DTSTAMP:20260420T204013
CREATED:20210427T160912Z
LAST-MODIFIED:20220428T193831Z
UID:13060-1651176000-1651188600@hifiindy.com
SUMMARY:Fruit Bats
DESCRIPTION:
URL:https://hifiindy.com/event/fruit-bats/
END:VEVENT
BEGIN:VEVENT
DTSTART;TZID=America/Indiana/Indianapolis:20220429T190000
DTEND;TZID=America/Indiana/Indianapolis:20220429T220000
DTSTAMP:20260420T204013
CREATED:20220331T140014Z
LAST-MODIFIED:20220616T115958Z
UID:15290-1651258800-1651269600@hifiindy.com
SUMMARY:Six Foot Blonde
DESCRIPTION:
URL:https://hifiindy.com/event/six-foot-blonde/
END:VEVENT
BEGIN:VEVENT
DTSTART;TZID=America/Indiana/Indianapolis:20220429T210000
DTEND;TZID=America/Indiana/Indianapolis:20220429T233000
DTSTAMP:20260420T204013
CREATED:20211102T140927Z
LAST-MODIFIED:20220406T203115Z
UID:14145-1651266000-1651275000@hifiindy.com
SUMMARY:Okilly Dokilly
DESCRIPTION:
URL:https://hifiindy.com/event/okilly-dokilly/
END:VEVENT
BEGIN:VEVENT
DTSTART;TZID=America/Indiana/Indianapolis:20220430T210000
DTEND;TZID=America/Indiana/Indianapolis:20220430T233000
DTSTAMP:20260420T204013
CREATED:20220120T140001Z
LAST-MODIFIED:20220321T180924Z
UID:14439-1651352400-1651361400@hifiindy.com
SUMMARY:Pedro the Lion
DESCRIPTION:
URL:https://hifiindy.com/event/pedro-the-lion/
END:VEVENT
END:VCALENDAR