BEGIN:VCALENDAR
VERSION:2.0
PRODID:-//HI-FI Indy - ECPv6.15.18//NONSGML v1.0//EN
CALSCALE:GREGORIAN
METHOD:PUBLISH
X-ORIGINAL-URL:https://hifiindy.com
X-WR-CALDESC:Events for HI-FI Indy
REFRESH-INTERVAL;VALUE=DURATION:PT1H
X-Robots-Tag:noindex
X-PUBLISHED-TTL:PT1H
BEGIN:VTIMEZONE
TZID:America/Indiana/Indianapolis
BEGIN:DAYLIGHT
TZOFFSETFROM:-0500
TZOFFSETTO:-0400
TZNAME:EDT
DTSTART:20210314T070000
END:DAYLIGHT
BEGIN:STANDARD
TZOFFSETFROM:-0400
TZOFFSETTO:-0500
TZNAME:EST
DTSTART:20211107T060000
END:STANDARD
BEGIN:DAYLIGHT
TZOFFSETFROM:-0500
TZOFFSETTO:-0400
TZNAME:EDT
DTSTART:20220313T070000
END:DAYLIGHT
BEGIN:STANDARD
TZOFFSETFROM:-0400
TZOFFSETTO:-0500
TZNAME:EST
DTSTART:20221106T060000
END:STANDARD
BEGIN:DAYLIGHT
TZOFFSETFROM:-0500
TZOFFSETTO:-0400
TZNAME:EDT
DTSTART:20230312T070000
END:DAYLIGHT
BEGIN:STANDARD
TZOFFSETFROM:-0400
TZOFFSETTO:-0500
TZNAME:EST
DTSTART:20231105T060000
END:STANDARD
END:VTIMEZONE
BEGIN:VEVENT
DTSTART;TZID=America/Indiana/Indianapolis:20220302T180000
DTEND;TZID=America/Indiana/Indianapolis:20220302T233000
DTSTAMP:20260420T222101
CREATED:20211026T150011Z
LAST-MODIFIED:20220212T012622Z
UID:14108-1646244000-1646263800@hifiindy.com
SUMMARY:The Way Down Wanderers
DESCRIPTION:
URL:https://hifiindy.com/event/the-way-down-wanderers/
LOCATION:FOXD’LEGND
END:VEVENT
BEGIN:VEVENT
DTSTART;TZID=America/Indiana/Indianapolis:20220303T203000
DTEND;TZID=America/Indiana/Indianapolis:20220303T233000
DTSTAMP:20260420T222101
CREATED:20211019T160030Z
LAST-MODIFIED:20220303T205237Z
UID:14096-1646339400-1646350200@hifiindy.com
SUMMARY:SOLD OUT: Wilderado
DESCRIPTION:
URL:https://hifiindy.com/event/wilderado/
END:VEVENT
BEGIN:VEVENT
DTSTART;TZID=America/Indiana/Indianapolis:20220304T190000
DTEND;TZID=America/Indiana/Indianapolis:20220304T230000
DTSTAMP:20260420T222101
CREATED:20211203T150034Z
LAST-MODIFIED:20220304T194418Z
UID:14293-1646420400-1646434800@hifiindy.com
SUMMARY:FREE FIRST FRIDAY: Whitehall
DESCRIPTION:
URL:https://hifiindy.com/event/free-first-friday-the-criticals/
LOCATION:FOXD’LEGND
END:VEVENT
BEGIN:VEVENT
DTSTART;TZID=America/Indiana/Indianapolis:20220304T200000
DTEND;TZID=America/Indiana/Indianapolis:20220304T230000
DTSTAMP:20260420T222101
CREATED:20210622T160050Z
LAST-MODIFIED:20211231T221637Z
UID:13484-1646424000-1646434800@hifiindy.com
SUMMARY:SOLD OUT: Briston Maroney
DESCRIPTION:
URL:https://hifiindy.com/event/briston-maroney/
END:VEVENT
BEGIN:VEVENT
DTSTART;TZID=America/Indiana/Indianapolis:20220305T190000
DTEND;TZID=America/Indiana/Indianapolis:20220305T213000
DTSTAMP:20260420T222101
CREATED:20220104T170022Z
LAST-MODIFIED:20220223T034237Z
UID:14362-1646506800-1646515800@hifiindy.com
SUMMARY:Cycles
DESCRIPTION:
URL:https://hifiindy.com/event/cycles/
LOCATION:FOXD’LEGND
END:VEVENT
BEGIN:VEVENT
DTSTART;TZID=America/Indiana/Indianapolis:20220305T210000
DTEND;TZID=America/Indiana/Indianapolis:20220305T230000
DTSTAMP:20260420T222101
CREATED:20211117T150057Z
LAST-MODIFIED:20220228T231012Z
UID:14215-1646514000-1646521200@hifiindy.com
SUMMARY:Molly Tuttle & The Golden Highway
DESCRIPTION:
URL:https://hifiindy.com/event/molly-tuttle/
END:VEVENT
BEGIN:VEVENT
DTSTART;TZID=America/Indiana/Indianapolis:20220308T200000
DTEND;TZID=America/Indiana/Indianapolis:20220308T230000
DTSTAMP:20260420T222101
CREATED:20220105T150039Z
LAST-MODIFIED:20220222T021109Z
UID:14363-1646769600-1646780400@hifiindy.com
SUMMARY:Gangstagrass
DESCRIPTION:
URL:https://hifiindy.com/event/gangstagrass/
END:VEVENT
BEGIN:VEVENT
DTSTART;TZID=America/Indiana/Indianapolis:20220309T200000
DTEND;TZID=America/Indiana/Indianapolis:20220309T233000
DTSTAMP:20260420T222101
CREATED:20211220T145029Z
LAST-MODIFIED:20211220T163424Z
UID:14353-1646856000-1646868600@hifiindy.com
SUMMARY:Mipso
DESCRIPTION:
URL:https://hifiindy.com/event/mipso/
END:VEVENT
BEGIN:VEVENT
DTSTART;TZID=America/Indiana/Indianapolis:20220310T190000
DTEND;TZID=America/Indiana/Indianapolis:20220310T210000
DTSTAMP:20260420T222101
CREATED:20220222T170050Z
LAST-MODIFIED:20220305T164300Z
UID:14992-1646938800-1646946000@hifiindy.com
SUMMARY:Naked Gypsy Queens
DESCRIPTION:
URL:https://hifiindy.com/event/naked-gypsy-queens/
LOCATION:FOXD’LEGND
END:VEVENT
BEGIN:VEVENT
DTSTART;TZID=America/Indiana/Indianapolis:20220310T200000
DTEND;TZID=America/Indiana/Indianapolis:20220310T230000
DTSTAMP:20260420T222101
CREATED:20211206T150429Z
LAST-MODIFIED:20220215T213349Z
UID:14299-1646942400-1646953200@hifiindy.com
SUMMARY:Tow'rs
DESCRIPTION:
URL:https://hifiindy.com/event/towrs/
END:VEVENT
BEGIN:VEVENT
DTSTART;TZID=America/Indiana/Indianapolis:20220311T180000
DTEND;TZID=America/Indiana/Indianapolis:20220311T210000
DTSTAMP:20260420T222101
CREATED:20220118T150026Z
LAST-MODIFIED:20220223T040108Z
UID:14401-1647021600-1647032400@hifiindy.com
SUMMARY:Dogs In A Pile
DESCRIPTION:
URL:https://hifiindy.com/event/dogs-in-a-pile/
LOCATION:FOXD’LEGND
END:VEVENT
BEGIN:VEVENT
DTSTART;TZID=America/Indiana/Indianapolis:20220311T200000
DTEND;TZID=America/Indiana/Indianapolis:20220311T233000
DTSTAMP:20260420T222101
CREATED:20220112T150739Z
LAST-MODIFIED:20220307T142038Z
UID:14387-1647028800-1647041400@hifiindy.com
SUMMARY:FREE: Joslyn & The Sweet Compression
DESCRIPTION:
URL:https://hifiindy.com/event/joslyn-the-sweet-compression/
END:VEVENT
BEGIN:VEVENT
DTSTART;TZID=America/Indiana/Indianapolis:20220312T210000
DTEND;TZID=America/Indiana/Indianapolis:20220312T233000
DTSTAMP:20260420T222101
CREATED:20220112T150046Z
LAST-MODIFIED:20220217T221039Z
UID:14386-1647118800-1647127800@hifiindy.com
SUMMARY:Huckleberry Funk
DESCRIPTION:
URL:https://hifiindy.com/event/huckleberry-funk-3/
END:VEVENT
BEGIN:VEVENT
DTSTART;TZID=America/Indiana/Indianapolis:20220316T190000
DTEND;TZID=America/Indiana/Indianapolis:20220316T233000
DTSTAMP:20260420T222101
CREATED:20211110T165927Z
LAST-MODIFIED:20220302T182522Z
UID:14184-1647457200-1647473400@hifiindy.com
SUMMARY:Tall Heights
DESCRIPTION:
URL:https://hifiindy.com/event/tall-heights-2/
END:VEVENT
BEGIN:VEVENT
DTSTART;TZID=America/Indiana/Indianapolis:20220317T190000
DTEND;TZID=America/Indiana/Indianapolis:20220317T210000
DTSTAMP:20260420T222101
CREATED:20220217T151749Z
LAST-MODIFIED:20220227T041720Z
UID:14933-1647543600-1647550800@hifiindy.com
SUMMARY:Oshima Brothers
DESCRIPTION:
URL:https://hifiindy.com/event/oshima-brothers/
LOCATION:FOXD’LEGND
END:VEVENT
BEGIN:VEVENT
DTSTART;TZID=America/Indiana/Indianapolis:20220317T190000
DTEND;TZID=America/Indiana/Indianapolis:20220317T233000
DTSTAMP:20260420T222101
CREATED:20220118T150005Z
LAST-MODIFIED:20220307T024422Z
UID:14404-1647543600-1647559800@hifiindy.com
SUMMARY:Kody West & Austin Meade
DESCRIPTION:
URL:https://hifiindy.com/event/kody-west-austin-meade/
END:VEVENT
BEGIN:VEVENT
DTSTART;TZID=America/Indiana/Indianapolis:20220318T200000
DTEND;TZID=America/Indiana/Indianapolis:20220318T233000
DTSTAMP:20260420T222101
CREATED:20220217T152123Z
LAST-MODIFIED:20220226T233910Z
UID:14934-1647633600-1647646200@hifiindy.com
SUMMARY:American Bombshell
DESCRIPTION:
URL:https://hifiindy.com/event/american-bombshell/
END:VEVENT
BEGIN:VEVENT
DTSTART;TZID=America/Indiana/Indianapolis:20220319T210000
DTEND;TZID=America/Indiana/Indianapolis:20220319T233000
DTSTAMP:20260420T222101
CREATED:20220218T144404Z
LAST-MODIFIED:20220223T173805Z
UID:14960-1647723600-1647732600@hifiindy.com
SUMMARY:Southern Accents - The Ultimate Tom Petty Experience
DESCRIPTION:
URL:https://hifiindy.com/event/southern-accents-the-ultimate-tom-petty-experience/
END:VEVENT
BEGIN:VEVENT
DTSTART;TZID=America/Indiana/Indianapolis:20220320T200000
DTEND;TZID=America/Indiana/Indianapolis:20220320T220000
DTSTAMP:20260420T222101
CREATED:20211207T143909Z
LAST-MODIFIED:20220217T175442Z
UID:14305-1647806400-1647813600@hifiindy.com
SUMMARY:Schaffer The Darklord
DESCRIPTION:
URL:https://hifiindy.com/event/schaffer-the-darklord/
LOCATION:FOXD’LEGND
END:VEVENT
BEGIN:VEVENT
DTSTART;TZID=America/Indiana/Indianapolis:20220320T200000
DTEND;TZID=America/Indiana/Indianapolis:20220320T233000
DTSTAMP:20260420T222101
CREATED:20220208T150037Z
LAST-MODIFIED:20220314T170051Z
UID:14696-1647806400-1647819000@hifiindy.com
SUMMARY:The Rival Sons
DESCRIPTION:
URL:https://hifiindy.com/event/the-rival-sons/
END:VEVENT
BEGIN:VEVENT
DTSTART;TZID=America/Indiana/Indianapolis:20220322T210000
DTEND;TZID=America/Indiana/Indianapolis:20220322T233000
DTSTAMP:20260420T222101
CREATED:20211116T170057Z
LAST-MODIFIED:20220224T201936Z
UID:14210-1647982800-1647991800@hifiindy.com
SUMMARY:Del Water Gap
DESCRIPTION:
URL:https://hifiindy.com/event/del-water-gap/
END:VEVENT
BEGIN:VEVENT
DTSTART;TZID=America/Indiana/Indianapolis:20220323T190000
DTEND;TZID=America/Indiana/Indianapolis:20220323T233000
DTSTAMP:20260420T222101
CREATED:20210602T160449Z
LAST-MODIFIED:20220224T194943Z
UID:13281-1648062000-1648078200@hifiindy.com
SUMMARY:Sports - Get A Good Look World Tour
DESCRIPTION:
URL:https://hifiindy.com/event/sports-get-a-good-look-world-tour/
END:VEVENT
BEGIN:VEVENT
DTSTART;TZID=America/Indiana/Indianapolis:20220324T200000
DTEND;TZID=America/Indiana/Indianapolis:20220324T233000
DTSTAMP:20260420T222101
CREATED:20220114T150014Z
LAST-MODIFIED:20220217T182215Z
UID:14390-1648152000-1648164600@hifiindy.com
SUMMARY:Ian Noe
DESCRIPTION:
URL:https://hifiindy.com/event/ian-noe/
END:VEVENT
BEGIN:VEVENT
DTSTART;TZID=America/Indiana/Indianapolis:20220325T190000
DTEND;TZID=America/Indiana/Indianapolis:20220325T223000
DTSTAMP:20260420T222101
CREATED:20220112T150024Z
LAST-MODIFIED:20220311T172906Z
UID:14384-1648234800-1648247400@hifiindy.com
SUMMARY:Karina Rykman
DESCRIPTION:
URL:https://hifiindy.com/event/karina-rykman/
LOCATION:FOXD’LEGND
END:VEVENT
BEGIN:VEVENT
DTSTART;TZID=America/Indiana/Indianapolis:20220325T210000
DTEND;TZID=America/Indiana/Indianapolis:20220325T233000
DTSTAMP:20260420T222101
CREATED:20211207T150042Z
LAST-MODIFIED:20220323T171822Z
UID:14288-1648242000-1648251000@hifiindy.com
SUMMARY:Jukebox the Ghost
DESCRIPTION:
URL:https://hifiindy.com/event/jukebox-the-ghost/
END:VEVENT
BEGIN:VEVENT
DTSTART;TZID=America/Indiana/Indianapolis:20220326T193000
DTEND;TZID=America/Indiana/Indianapolis:20220326T213000
DTSTAMP:20260420T222101
CREATED:20220209T150055Z
LAST-MODIFIED:20220215T203526Z
UID:14709-1648323000-1648330200@hifiindy.com
SUMMARY:Crystal Bowersox
DESCRIPTION:
URL:https://hifiindy.com/event/crystal-bowersox/
LOCATION:FOXD’LEGND
END:VEVENT
BEGIN:VEVENT
DTSTART;TZID=America/Indiana/Indianapolis:20220326T200000
DTEND;TZID=America/Indiana/Indianapolis:20220326T230000
DTSTAMP:20260420T222101
CREATED:20220131T150049Z
LAST-MODIFIED:20220321T175823Z
UID:14531-1648324800-1648335600@hifiindy.com
SUMMARY:Fat Pockets
DESCRIPTION:
URL:https://hifiindy.com/event/fat-pockets-3/
END:VEVENT
BEGIN:VEVENT
DTSTART;TZID=America/Indiana/Indianapolis:20220327T180000
DTEND;TZID=America/Indiana/Indianapolis:20220327T233000
DTSTAMP:20260420T222101
CREATED:20220112T160027Z
LAST-MODIFIED:20220302T232123Z
UID:14388-1648404000-1648423800@hifiindy.com
SUMMARY:Dos Santos - City of Mirrors Tour
DESCRIPTION:
URL:https://hifiindy.com/event/dos-santos-city-of-mirrors-tour/
LOCATION:FOXD’LEGND
END:VEVENT
BEGIN:VEVENT
DTSTART;TZID=America/Indiana/Indianapolis:20220327T190000
DTEND;TZID=America/Indiana/Indianapolis:20220327T233000
DTSTAMP:20260420T222101
CREATED:20220208T150012Z
LAST-MODIFIED:20220309T014221Z
UID:14695-1648407600-1648423800@hifiindy.com
SUMMARY:Hawthorne Heights
DESCRIPTION:
URL:https://hifiindy.com/event/hawthorne-heights/
END:VEVENT
BEGIN:VEVENT
DTSTART;TZID=America/Indiana/Indianapolis:20220328T200000
DTEND;TZID=America/Indiana/Indianapolis:20220328T233000
DTSTAMP:20260420T222101
CREATED:20220214T150018Z
LAST-MODIFIED:20220319T212926Z
UID:14804-1648497600-1648510200@hifiindy.com
SUMMARY:Read Southall Band
DESCRIPTION:
URL:https://hifiindy.com/event/read-southall-band-2/
END:VEVENT
END:VCALENDAR