BEGIN:VCALENDAR
VERSION:2.0
PRODID:-//HI-FI Indy - ECPv6.15.18//NONSGML v1.0//EN
CALSCALE:GREGORIAN
METHOD:PUBLISH
X-WR-CALNAME:HI-FI Indy
X-ORIGINAL-URL:https://hifiindy.com
X-WR-CALDESC:Events for HI-FI Indy
REFRESH-INTERVAL;VALUE=DURATION:PT1H
X-Robots-Tag:noindex
X-PUBLISHED-TTL:PT1H
BEGIN:VTIMEZONE
TZID:America/Indiana/Indianapolis
BEGIN:DAYLIGHT
TZOFFSETFROM:-0500
TZOFFSETTO:-0400
TZNAME:EDT
DTSTART:20210314T070000
END:DAYLIGHT
BEGIN:STANDARD
TZOFFSETFROM:-0400
TZOFFSETTO:-0500
TZNAME:EST
DTSTART:20211107T060000
END:STANDARD
BEGIN:DAYLIGHT
TZOFFSETFROM:-0500
TZOFFSETTO:-0400
TZNAME:EDT
DTSTART:20220313T070000
END:DAYLIGHT
BEGIN:STANDARD
TZOFFSETFROM:-0400
TZOFFSETTO:-0500
TZNAME:EST
DTSTART:20221106T060000
END:STANDARD
BEGIN:DAYLIGHT
TZOFFSETFROM:-0500
TZOFFSETTO:-0400
TZNAME:EDT
DTSTART:20230312T070000
END:DAYLIGHT
BEGIN:STANDARD
TZOFFSETFROM:-0400
TZOFFSETTO:-0500
TZNAME:EST
DTSTART:20231105T060000
END:STANDARD
END:VTIMEZONE
BEGIN:VEVENT
DTSTART;TZID=America/Indiana/Indianapolis:20220204T200000
DTEND;TZID=America/Indiana/Indianapolis:20220204T230000
DTSTAMP:20260423T051106
CREATED:20211020T140046Z
LAST-MODIFIED:20220204T014344Z
UID:14100-1644004800-1644015600@hifiindy.com
SUMMARY:FREE FIRST FRIDAY: Brother Moses
DESCRIPTION:
URL:https://hifiindy.com/event/free-first-friday-brother-moses/
LOCATION:FOXD’LEGND
END:VEVENT
BEGIN:VEVENT
DTSTART;TZID=America/Indiana/Indianapolis:20220204T200000
DTEND;TZID=America/Indiana/Indianapolis:20220204T233000
DTSTAMP:20260423T051106
CREATED:20211119T155252Z
LAST-MODIFIED:20220203T222906Z
UID:14229-1644004800-1644017400@hifiindy.com
SUMMARY:The Palace
DESCRIPTION:
URL:https://hifiindy.com/event/the-palace/
END:VEVENT
BEGIN:VEVENT
DTSTART;TZID=America/Indiana/Indianapolis:20220205T210000
DTEND;TZID=America/Indiana/Indianapolis:20220205T233000
DTSTAMP:20260423T051106
CREATED:20211020T160052Z
LAST-MODIFIED:20220204T002316Z
UID:14105-1644094800-1644103800@hifiindy.com
SUMMARY:Brittney Spencer
DESCRIPTION:
URL:https://hifiindy.com/event/brittney-spencer/
END:VEVENT
BEGIN:VEVENT
DTSTART;TZID=America/Indiana/Indianapolis:20220209T190000
DTEND;TZID=America/Indiana/Indianapolis:20220209T220000
DTSTAMP:20260423T051106
CREATED:20211213T143909Z
LAST-MODIFIED:20220208T225234Z
UID:14330-1644433200-1644444000@hifiindy.com
SUMMARY:Daniel Donato
DESCRIPTION:
URL:https://hifiindy.com/event/daniel-donato/
LOCATION:FOXD’LEGND
END:VEVENT
BEGIN:VEVENT
DTSTART;TZID=America/Indiana/Indianapolis:20220210T200000
DTEND;TZID=America/Indiana/Indianapolis:20220210T230000
DTSTAMP:20260423T051106
CREATED:20211117T150056Z
LAST-MODIFIED:20220208T230625Z
UID:14214-1644523200-1644534000@hifiindy.com
SUMMARY:Red Wanting Blue
DESCRIPTION:
URL:https://hifiindy.com/event/red-wanting-blue-2-2/
END:VEVENT
BEGIN:VEVENT
DTSTART;TZID=America/Indiana/Indianapolis:20220211T190000
DTEND;TZID=America/Indiana/Indianapolis:20220211T230000
DTSTAMP:20260423T051106
CREATED:20211216T150024Z
LAST-MODIFIED:20220208T225222Z
UID:14348-1644606000-1644620400@hifiindy.com
SUMMARY:The Buffalo Wabs & The Price Hill Hustle
DESCRIPTION:
URL:https://hifiindy.com/event/the-buffalo-wabs-the-price-hill-hustle/
LOCATION:FOXD’LEGND
END:VEVENT
BEGIN:VEVENT
DTSTART;TZID=America/Indiana/Indianapolis:20220211T200000
DTEND;TZID=America/Indiana/Indianapolis:20220211T233000
DTSTAMP:20260423T051106
CREATED:20211213T164712Z
LAST-MODIFIED:20220208T213559Z
UID:14333-1644609600-1644622200@hifiindy.com
SUMMARY:SOLD OUT: Langhorne Slim
DESCRIPTION:
URL:https://hifiindy.com/event/langhorn-slim/
END:VEVENT
BEGIN:VEVENT
DTSTART;TZID=America/Indiana/Indianapolis:20220216T180000
DTEND;TZID=America/Indiana/Indianapolis:20220216T220000
DTSTAMP:20260423T051106
CREATED:20211026T161129Z
LAST-MODIFIED:20211216T203250Z
UID:14099-1645034400-1645048800@hifiindy.com
SUMMARY:An Evening With Clem Snide
DESCRIPTION:
URL:https://hifiindy.com/event/clem-snide/
LOCATION:FOXD’LEGND
END:VEVENT
BEGIN:VEVENT
DTSTART;TZID=America/Indiana/Indianapolis:20220216T200000
DTEND;TZID=America/Indiana/Indianapolis:20220216T233000
DTSTAMP:20260423T051106
CREATED:20211029T143710Z
LAST-MODIFIED:20220215T003506Z
UID:14144-1645041600-1645054200@hifiindy.com
SUMMARY:Tenille Townes
DESCRIPTION:
URL:https://hifiindy.com/event/tenille-townes/
END:VEVENT
BEGIN:VEVENT
DTSTART;TZID=America/Indiana/Indianapolis:20220217T193000
DTEND;TZID=America/Indiana/Indianapolis:20220217T230000
DTSTAMP:20260423T051106
CREATED:20211206T205211Z
LAST-MODIFIED:20220216T231102Z
UID:14304-1645126200-1645138800@hifiindy.com
SUMMARY:Prof
DESCRIPTION:
URL:https://hifiindy.com/event/prof/
END:VEVENT
BEGIN:VEVENT
DTSTART;TZID=America/Indiana/Indianapolis:20220218T180000
DTEND;TZID=America/Indiana/Indianapolis:20220218T220000
DTSTAMP:20260423T051106
CREATED:20211220T144631Z
LAST-MODIFIED:20220208T225332Z
UID:14352-1645207200-1645221600@hifiindy.com
SUMMARY:Davey and The Midnights
DESCRIPTION:
URL:https://hifiindy.com/event/davey-and-the-midnights/
LOCATION:FOXD’LEGND
END:VEVENT
BEGIN:VEVENT
DTSTART;TZID=America/Indiana/Indianapolis:20220218T190000
DTEND;TZID=America/Indiana/Indianapolis:20220218T230000
DTSTAMP:20260423T051106
CREATED:20220107T150043Z
LAST-MODIFIED:20220218T221438Z
UID:14367-1645210800-1645225200@hifiindy.com
SUMMARY:Ovrslept
DESCRIPTION:
URL:https://hifiindy.com/event/ovrslept/
END:VEVENT
BEGIN:VEVENT
DTSTART;TZID=America/Indiana/Indianapolis:20220219T190000
DTEND;TZID=America/Indiana/Indianapolis:20220219T210000
DTSTAMP:20260423T051106
CREATED:20211116T160002Z
LAST-MODIFIED:20220208T162824Z
UID:14199-1645297200-1645304400@hifiindy.com
SUMMARY:Skout + Marielle Kraft
DESCRIPTION:
URL:https://hifiindy.com/event/marielle-kraft-skout/
LOCATION:FOXD’LEGND
END:VEVENT
BEGIN:VEVENT
DTSTART;TZID=America/Indiana/Indianapolis:20220219T200000
DTEND;TZID=America/Indiana/Indianapolis:20220219T233000
DTSTAMP:20260423T051106
CREATED:20211115T160020Z
LAST-MODIFIED:20220204T021231Z
UID:14190-1645300800-1645313400@hifiindy.com
SUMMARY:Brent Cobb - When It's My Time Tour
DESCRIPTION:
URL:https://hifiindy.com/event/brent-cobb-when-its-my-time-tour/
END:VEVENT
BEGIN:VEVENT
DTSTART;TZID=America/Indiana/Indianapolis:20220220T200000
DTEND;TZID=America/Indiana/Indianapolis:20220220T233000
DTSTAMP:20260423T051106
CREATED:20211011T140701Z
LAST-MODIFIED:20220204T023050Z
UID:14066-1645387200-1645399800@hifiindy.com
SUMMARY:Giovannie & The Hired Guns
DESCRIPTION:
URL:https://hifiindy.com/event/giovannie-the-hired-guns/
END:VEVENT
BEGIN:VEVENT
DTSTART;TZID=America/Indiana/Indianapolis:20220221T200000
DTEND;TZID=America/Indiana/Indianapolis:20220221T230000
DTSTAMP:20260423T051106
CREATED:20211126T190810Z
LAST-MODIFIED:20220208T162650Z
UID:14267-1645473600-1645484400@hifiindy.com
SUMMARY:Patrick Droney
DESCRIPTION:
URL:https://hifiindy.com/event/patrick-droney/
END:VEVENT
BEGIN:VEVENT
DTSTART;TZID=America/Indiana/Indianapolis:20220224T200000
DTEND;TZID=America/Indiana/Indianapolis:20220224T233000
DTSTAMP:20260423T051106
CREATED:20210615T150014Z
LAST-MODIFIED:20220204T024452Z
UID:14237-1645732800-1645745400@hifiindy.com
SUMMARY:Lilly Hiatt
DESCRIPTION:
URL:https://hifiindy.com/event/lilly-hiatt/
END:VEVENT
BEGIN:VEVENT
DTSTART;TZID=America/Indiana/Indianapolis:20220225T150000
DTEND;TZID=America/Indiana/Indianapolis:20220225T190000
DTSTAMP:20260423T051106
CREATED:20211218T190002Z
LAST-MODIFIED:20220218T214254Z
UID:14320-1645801200-1645815600@hifiindy.com
SUMMARY:Jon McLaughlin - Show #1: Indiana
DESCRIPTION:
URL:https://hifiindy.com/event/jon-mclaughlin-show-1-indiana/
END:VEVENT
BEGIN:VEVENT
DTSTART;TZID=America/Indiana/Indianapolis:20220225T200000
DTEND;TZID=America/Indiana/Indianapolis:20220225T230000
DTSTAMP:20260423T051106
CREATED:20211218T190052Z
LAST-MODIFIED:20220218T214307Z
UID:14323-1645819200-1645830000@hifiindy.com
SUMMARY:Jon McLaughlin - Show #2: OK Now
DESCRIPTION:
URL:https://hifiindy.com/event/jon-mclaughlin-show-2-ok-now/
END:VEVENT
BEGIN:VEVENT
DTSTART;TZID=America/Indiana/Indianapolis:20220226T150000
DTEND;TZID=America/Indiana/Indianapolis:20220226T190000
DTSTAMP:20260423T051106
CREATED:20211218T190054Z
LAST-MODIFIED:20220218T214318Z
UID:14324-1645887600-1645902000@hifiindy.com
SUMMARY:Jon McLaughlin - Show #3: Promising Promises
DESCRIPTION:
URL:https://hifiindy.com/event/jon-mclaughlin-show-3-promising-promises/
END:VEVENT
BEGIN:VEVENT
DTSTART;TZID=America/Indiana/Indianapolis:20220226T200000
DTEND;TZID=America/Indiana/Indianapolis:20220226T230000
DTSTAMP:20260423T051106
CREATED:20211218T190019Z
LAST-MODIFIED:20220218T214444Z
UID:14325-1645905600-1645916400@hifiindy.com
SUMMARY:Jon McLaughlin - Show #4: Holding My Breath
DESCRIPTION:
URL:https://hifiindy.com/event/jon-mclaughlin-show-4-holding-my-breath/
END:VEVENT
BEGIN:VEVENT
DTSTART;TZID=America/Indiana/Indianapolis:20220227T150000
DTEND;TZID=America/Indiana/Indianapolis:20220227T190000
DTSTAMP:20260423T051106
CREATED:20211218T190007Z
LAST-MODIFIED:20220218T214557Z
UID:14326-1645974000-1645988400@hifiindy.com
SUMMARY:Jon McLaughlin - Show #5: Like Us
DESCRIPTION:
URL:https://hifiindy.com/event/jon-mclaughlin-show-5-like-us/
END:VEVENT
BEGIN:VEVENT
DTSTART;TZID=America/Indiana/Indianapolis:20220227T200000
DTEND;TZID=America/Indiana/Indianapolis:20220227T230000
DTSTAMP:20260423T051106
CREATED:20211218T190019Z
LAST-MODIFIED:20220218T214946Z
UID:14328-1645992000-1646002800@hifiindy.com
SUMMARY:Jon McLaughlin - Show #6: Angst & Grace
DESCRIPTION:
URL:https://hifiindy.com/event/jon-mclaughlin-show-6-angst-grace/
END:VEVENT
END:VCALENDAR