BEGIN:VCALENDAR
VERSION:2.0
PRODID:-//HI-FI Indy - ECPv6.15.18//NONSGML v1.0//EN
CALSCALE:GREGORIAN
METHOD:PUBLISH
X-WR-CALNAME:HI-FI Indy
X-ORIGINAL-URL:https://hifiindy.com
X-WR-CALDESC:Events for HI-FI Indy
REFRESH-INTERVAL;VALUE=DURATION:PT1H
X-Robots-Tag:noindex
X-PUBLISHED-TTL:PT1H
BEGIN:VTIMEZONE
TZID:America/Indiana/Indianapolis
BEGIN:DAYLIGHT
TZOFFSETFROM:-0500
TZOFFSETTO:-0400
TZNAME:EDT
DTSTART:20220313T070000
END:DAYLIGHT
BEGIN:STANDARD
TZOFFSETFROM:-0400
TZOFFSETTO:-0500
TZNAME:EST
DTSTART:20221106T060000
END:STANDARD
BEGIN:DAYLIGHT
TZOFFSETFROM:-0500
TZOFFSETTO:-0400
TZNAME:EDT
DTSTART:20230312T070000
END:DAYLIGHT
BEGIN:STANDARD
TZOFFSETFROM:-0400
TZOFFSETTO:-0500
TZNAME:EST
DTSTART:20231105T060000
END:STANDARD
BEGIN:DAYLIGHT
TZOFFSETFROM:-0500
TZOFFSETTO:-0400
TZNAME:EDT
DTSTART:20240310T070000
END:DAYLIGHT
BEGIN:STANDARD
TZOFFSETFROM:-0400
TZOFFSETTO:-0500
TZNAME:EST
DTSTART:20241103T060000
END:STANDARD
END:VTIMEZONE
BEGIN:VEVENT
DTSTART;TZID=America/Indiana/Indianapolis:20231103T190000
DTEND;TZID=America/Indiana/Indianapolis:20231103T210000
DTSTAMP:20260419T125533
CREATED:20230926T140044Z
LAST-MODIFIED:20231030T184755Z
UID:18867-1699038000-1699045200@hifiindy.com
SUMMARY:FREE FIRST FRIDAY: Ace Monroe
DESCRIPTION:
URL:https://hifiindy.com/event/ace-monroe/
LOCATION:FOXD’LEGND
END:VEVENT
BEGIN:VEVENT
DTSTART;TZID=America/Indiana/Indianapolis:20231124T183000
DTEND;TZID=America/Indiana/Indianapolis:20231124T213000
DTSTAMP:20260419T125533
CREATED:20230920T140058Z
LAST-MODIFIED:20230920T152457Z
UID:18821-1700850600-1700861400@hifiindy.com
SUMMARY:The Wonderlands
DESCRIPTION:
URL:https://hifiindy.com/event/the-wonderlands/
LOCATION:FOXD’LEGND
END:VEVENT
BEGIN:VEVENT
DTSTART;TZID=America/Indiana/Indianapolis:20231125T100000
DTEND;TZID=America/Indiana/Indianapolis:20231125T150000
DTSTAMP:20260419T125533
CREATED:20231125T045918Z
LAST-MODIFIED:20231125T050211Z
UID:19041-1700906400-1700924400@hifiindy.com
SUMMARY:Small Business Saturday Holiday Pop-Up w/ Local Vendors
DESCRIPTION:
URL:https://hifiindy.com/event/small-business-saturday-holiday-pop-up-w-local-vendors/
END:VEVENT
END:VCALENDAR