BEGIN:VCALENDAR
VERSION:2.0
PRODID:-//HI-FI Indy - ECPv6.15.18//NONSGML v1.0//EN
CALSCALE:GREGORIAN
METHOD:PUBLISH
X-WR-CALNAME:HI-FI Indy
X-ORIGINAL-URL:https://hifiindy.com
X-WR-CALDESC:Events for HI-FI Indy
REFRESH-INTERVAL;VALUE=DURATION:PT1H
X-Robots-Tag:noindex
X-PUBLISHED-TTL:PT1H
BEGIN:VTIMEZONE
TZID:America/Indiana/Indianapolis
BEGIN:DAYLIGHT
TZOFFSETFROM:-0500
TZOFFSETTO:-0400
TZNAME:EDT
DTSTART:20220313T070000
END:DAYLIGHT
BEGIN:STANDARD
TZOFFSETFROM:-0400
TZOFFSETTO:-0500
TZNAME:EST
DTSTART:20221106T060000
END:STANDARD
BEGIN:DAYLIGHT
TZOFFSETFROM:-0500
TZOFFSETTO:-0400
TZNAME:EDT
DTSTART:20230312T070000
END:DAYLIGHT
BEGIN:STANDARD
TZOFFSETFROM:-0400
TZOFFSETTO:-0500
TZNAME:EST
DTSTART:20231105T060000
END:STANDARD
BEGIN:DAYLIGHT
TZOFFSETFROM:-0500
TZOFFSETTO:-0400
TZNAME:EDT
DTSTART:20240310T070000
END:DAYLIGHT
BEGIN:STANDARD
TZOFFSETFROM:-0400
TZOFFSETTO:-0500
TZNAME:EST
DTSTART:20241103T060000
END:STANDARD
END:VTIMEZONE
BEGIN:VEVENT
DTSTART;TZID=America/Indiana/Indianapolis:20230218T190000
DTEND;TZID=America/Indiana/Indianapolis:20230218T220000
DTSTAMP:20260420T033310
CREATED:20230113T191503Z
LAST-MODIFIED:20230216T161828Z
UID:17057-1676746800-1676757600@hifiindy.com
SUMMARY:Eric Bolander
DESCRIPTION:
URL:https://hifiindy.com/event/eric-bolander/
LOCATION:FOXD’LEGND
END:VEVENT
BEGIN:VEVENT
DTSTART;TZID=America/Indiana/Indianapolis:20230225T190000
DTEND;TZID=America/Indiana/Indianapolis:20230225T220000
DTSTAMP:20260420T033310
CREATED:20230113T191226Z
LAST-MODIFIED:20230220T170525Z
UID:17056-1677351600-1677362400@hifiindy.com
SUMMARY:For Elijah Fundraiser Showcase
DESCRIPTION:
URL:https://hifiindy.com/event/for-elijah-fundraiser-showcase/
LOCATION:FOXD’LEGND
END:VEVENT
END:VCALENDAR