BEGIN:VCALENDAR
VERSION:2.0
PRODID:-//HI-FI Indy - ECPv6.15.18//NONSGML v1.0//EN
CALSCALE:GREGORIAN
METHOD:PUBLISH
X-ORIGINAL-URL:https://hifiindy.com
X-WR-CALDESC:Events for HI-FI Indy
REFRESH-INTERVAL;VALUE=DURATION:PT1H
X-Robots-Tag:noindex
X-PUBLISHED-TTL:PT1H
BEGIN:VTIMEZONE
TZID:America/Indiana/Indianapolis
BEGIN:DAYLIGHT
TZOFFSETFROM:-0500
TZOFFSETTO:-0400
TZNAME:EDT
DTSTART:20210314T070000
END:DAYLIGHT
BEGIN:STANDARD
TZOFFSETFROM:-0400
TZOFFSETTO:-0500
TZNAME:EST
DTSTART:20211107T060000
END:STANDARD
BEGIN:DAYLIGHT
TZOFFSETFROM:-0500
TZOFFSETTO:-0400
TZNAME:EDT
DTSTART:20220313T070000
END:DAYLIGHT
BEGIN:STANDARD
TZOFFSETFROM:-0400
TZOFFSETTO:-0500
TZNAME:EST
DTSTART:20221106T060000
END:STANDARD
BEGIN:DAYLIGHT
TZOFFSETFROM:-0500
TZOFFSETTO:-0400
TZNAME:EDT
DTSTART:20230312T070000
END:DAYLIGHT
BEGIN:STANDARD
TZOFFSETFROM:-0400
TZOFFSETTO:-0500
TZNAME:EST
DTSTART:20231105T060000
END:STANDARD
END:VTIMEZONE
BEGIN:VEVENT
DTSTART;TZID=America/Indiana/Indianapolis:20221103T210000
DTEND;TZID=America/Indiana/Indianapolis:20221103T233000
DTSTAMP:20260420T081254
CREATED:20220329T160000Z
LAST-MODIFIED:20221028T212326Z
UID:15221-1667509200-1667518200@hifiindy.com
SUMMARY:The Sheepdogs
DESCRIPTION:
URL:https://hifiindy.com/event/the-sheepdogs/
END:VEVENT
BEGIN:VEVENT
DTSTART;TZID=America/Indiana/Indianapolis:20221108T200000
DTEND;TZID=America/Indiana/Indianapolis:20221108T233000
DTSTAMP:20260420T081254
CREATED:20220517T150025Z
LAST-MODIFIED:20221107T163527Z
UID:15799-1667937600-1667950200@hifiindy.com
SUMMARY:Penny & Sparrow
DESCRIPTION:
URL:https://hifiindy.com/event/penny-sparrow/
END:VEVENT
BEGIN:VEVENT
DTSTART;TZID=America/Indiana/Indianapolis:20221112T210000
DTEND;TZID=America/Indiana/Indianapolis:20221112T235900
DTSTAMP:20260420T081254
CREATED:20220518T150138Z
LAST-MODIFIED:20221107T223118Z
UID:15811-1668286800-1668297540@hifiindy.com
SUMMARY:Sun Room
DESCRIPTION:
URL:https://hifiindy.com/event/sun-room/
END:VEVENT
END:VCALENDAR