BEGIN:VCALENDAR
VERSION:2.0
PRODID:-//HI-FI Indy - ECPv6.15.18//NONSGML v1.0//EN
CALSCALE:GREGORIAN
METHOD:PUBLISH
X-ORIGINAL-URL:https://hifiindy.com
X-WR-CALDESC:Events for HI-FI Indy
REFRESH-INTERVAL;VALUE=DURATION:PT1H
X-Robots-Tag:noindex
X-PUBLISHED-TTL:PT1H
BEGIN:VTIMEZONE
TZID:America/Indiana/Indianapolis
BEGIN:DAYLIGHT
TZOFFSETFROM:-0500
TZOFFSETTO:-0400
TZNAME:EDT
DTSTART:20200308T070000
END:DAYLIGHT
BEGIN:STANDARD
TZOFFSETFROM:-0400
TZOFFSETTO:-0500
TZNAME:EST
DTSTART:20201101T060000
END:STANDARD
BEGIN:DAYLIGHT
TZOFFSETFROM:-0500
TZOFFSETTO:-0400
TZNAME:EDT
DTSTART:20210314T070000
END:DAYLIGHT
BEGIN:STANDARD
TZOFFSETFROM:-0400
TZOFFSETTO:-0500
TZNAME:EST
DTSTART:20211107T060000
END:STANDARD
BEGIN:DAYLIGHT
TZOFFSETFROM:-0500
TZOFFSETTO:-0400
TZNAME:EDT
DTSTART:20220313T070000
END:DAYLIGHT
BEGIN:STANDARD
TZOFFSETFROM:-0400
TZOFFSETTO:-0500
TZNAME:EST
DTSTART:20221106T060000
END:STANDARD
END:VTIMEZONE
BEGIN:VEVENT
DTSTART;TZID=America/Indiana/Indianapolis:20211102T200000
DTEND;TZID=America/Indiana/Indianapolis:20211102T230000
DTSTAMP:20260423T104313
CREATED:20210806T140040Z
LAST-MODIFIED:20210923T170159Z
UID:13775-1635883200-1635894000@hifiindy.com
SUMMARY:Susto
DESCRIPTION:
URL:https://hifiindy.com/event/susto-2/
END:VEVENT
BEGIN:VEVENT
DTSTART;TZID=America/Indiana/Indianapolis:20211103T200000
DTEND;TZID=America/Indiana/Indianapolis:20211103T233000
DTSTAMP:20260423T104313
CREATED:20210727T160024Z
LAST-MODIFIED:20210928T230915Z
UID:13694-1635969600-1635982200@hifiindy.com
SUMMARY:An Evening With Dopapod
DESCRIPTION:
URL:https://hifiindy.com/event/dopapod/
END:VEVENT
BEGIN:VEVENT
DTSTART;TZID=America/Indiana/Indianapolis:20211104T200000
DTEND;TZID=America/Indiana/Indianapolis:20211104T230000
DTSTAMP:20260423T104313
CREATED:20200629T160041Z
LAST-MODIFIED:20211013T224127Z
UID:12597-1636056000-1636066800@hifiindy.com
SUMMARY:The Cybertronic Spree
DESCRIPTION:The Cybertronic Spree’s Indianapolis date at HI-FI has been rescheduled for March 7\, 2021.  All tickets purchased for the original date will be honored on the rescheduled date. Please direct any questions to boxoffice@mokbpresents.com.  You can follow our ongoing list of affected shows here: http://bit.ly/mokb-hifi-covid19updates \n—————————- \nTHE CYBERTRONIC SPREE – PARTY ‘TIL WE BREAK TOUR W/ MC CHRIS @ HI-FI INDIANAPOLIS \nDOORS: 7:00 PM\, SHOW: 8:00 PM \nAGE RESTRICTIONS: 21+ \nGENERAL ADMISSION\, LIMITED SEATING \nImportant Notice: All tickets are nonrefundable and nontransferable. Support acts are subject to change. \n—————————- \nAbout The Cybertronic Spree: \nListen | Watch Video \nMore than meets the eye\, The Cybertronic Spree are here on Earth with one critical mission: To party like it’s 1986! This band of Transformers has been brought together by the power of rock ’n roll and they can’t be stopped. Join Hotrod\, Arcee\, Rumble\, Unicron\, Soundwave\, Bumblebee\, Shockwave and a Quintesson as they prove they’ve got the power to light your darkest hour. Known across the galaxy for having cast aside their warring factions in the search for the ultimate party\, these rockstars in disguise play music from The Transformers: The Movie\, hit film and anime songs\, and video game covers. They blend their love for the ’80s and ’80s metal into an energon-fueled\, unforgettable live show! \nAbout MC Chris: \nListen | Watch Video \nmc chris is a rapper from Libertyville\, Illinois\, a suburb of Chicago. He was one of the first rappers to focus solely on nerd life\, rapping about Star Wars\, Harry Potter\, ninjas\, and unrequited love. And he’s the only rapper that was ever an animator for Cartoon Network for five years. \nmc was one of the pioneers of Adult Swim. He was writer\, actor\, songwriter and animator for shows like Sealab 2021\, The Brak Show\, Space Ghost Coast to Coast and Aqua Teen Hunger Force. He has voiced characters on several Adult Swim pilots such as Welcome to Eltingville\, Cheyenne Cinnamon\, Your Pretty Face is Going to Hell and Tight Bros. He was also a producer of on air content for over a year before leaving Williams Street in Atlanta to pursue a career in music.
URL:https://hifiindy.com/event/the-cybertronic-spree-rescheduled-2/
END:VEVENT
BEGIN:VEVENT
DTSTART;TZID=America/Indiana/Indianapolis:20211105T180000
DTEND;TZID=America/Indiana/Indianapolis:20211105T210000
DTSTAMP:20260423T104313
CREATED:20210817T150028Z
LAST-MODIFIED:20211026T170755Z
UID:13833-1636135200-1636146000@hifiindy.com
SUMMARY:FREE First Friday: Haiva Ru
DESCRIPTION:
URL:https://hifiindy.com/event/free-first-friday-haiva-vu/
LOCATION:FOXD’LEGND
END:VEVENT
BEGIN:VEVENT
DTSTART;TZID=America/Indiana/Indianapolis:20211105T200000
DTEND;TZID=America/Indiana/Indianapolis:20211105T223000
DTSTAMP:20260423T104313
CREATED:20210518T165651Z
LAST-MODIFIED:20211104T162000Z
UID:13211-1636142400-1636151400@hifiindy.com
SUMMARY:The Brook & The Bluff
DESCRIPTION:
URL:https://hifiindy.com/event/the-brook-the-bluff-2/
END:VEVENT
BEGIN:VEVENT
DTSTART;TZID=America/Indiana/Indianapolis:20211106T210000
DTEND;TZID=America/Indiana/Indianapolis:20211106T233000
DTSTAMP:20260423T104313
CREATED:20210118T234955Z
LAST-MODIFIED:20210923T170420Z
UID:12568-1636232400-1636241400@hifiindy.com
SUMMARY:Pokey Lafarge
DESCRIPTION:  \n 
URL:https://hifiindy.com/event/pokey-lafarge/
END:VEVENT
BEGIN:VEVENT
DTSTART;TZID=America/Indiana/Indianapolis:20211107T190000
DTEND;TZID=America/Indiana/Indianapolis:20211107T230000
DTSTAMP:20260423T104313
CREATED:20210826T135901Z
LAST-MODIFIED:20211105T195454Z
UID:13887-1636311600-1636326000@hifiindy.com
SUMMARY:Passafire
DESCRIPTION:
URL:https://hifiindy.com/event/passafire/
END:VEVENT
BEGIN:VEVENT
DTSTART;TZID=America/Indiana/Indianapolis:20211110T200000
DTEND;TZID=America/Indiana/Indianapolis:20211110T233000
DTSTAMP:20260423T104313
CREATED:20210706T140003Z
LAST-MODIFIED:20211109T191505Z
UID:14116-1636574400-1636587000@hifiindy.com
SUMMARY:Real Estate
DESCRIPTION:Real Estate’s Indianapolis show at The Vogue has been cancelled.   Refunds are available at point of purchase.  Online buyers will be refunded in 1-3 business days. Please direct any questions to boxoffice@mokbpresents.com. You can follow our ongoing list of affected shows here: http://bit.ly/mokb-hifi-covid19updates \n————————— \nReal Estate – The Main Tour w/ Palm at The Vogue \n\nDOORS: 8:00 PM\, SHOW: 9:00 PM \nAGE RESTRICTIONS: 21+ \nGENERAL ADMISSION\, LIMITED SEATING \nImportant Notice: All tickets are nonrefundable and nontransferable. Support acts are subject to change. \n—————————- \nAbout Real Estate: \nListen | Watch Video \nThe band Real Estate have spent the last decade crafting warm yet meticulous pop-minded music\, specializing in soaring melodies that are sentimentally evocative and unmistakably their own. They released their fourth and most recent album In Mind in early 2017\, which was met with glowing reviews from media and fans alike\, many of whom fell in love with the brilliantly melodic songwriting and rich lyricism of the band’s previous breakthrough record\, Atlas (2014). Real Estate have played festival stages worldwide\, including Coachella and Glastonbury\, and the In Mind tour saw them play the largest rooms of their career\, to fans eager to experience album highlights like singles “Darling” and “Stained Glass”. Real Estate have been hinting at a new release\, with fans at recent 2019 shows being surprised with live versions of previously-unheard songs. It seems likely that 2020 will bring the fifth record from the beloved group\, who excel at “deriving meaning from shimmering beauty” [NEW YORK TIMES]. \n\n\n\nAbout Palm: \nListen | Watch Video \nPalm plays rock music backwards. Eve Alpert and Kasra Kurt’s guitars occupy themselves most often with the pace-keeping work typical of a rhythm section. Meanwhile\, Gerasimos Livitsanos’ bass and Hugo Stanley’s drums perform commentary and reportage from their deeply embedded positions at the front. The band is firmly attached to the physicality of rock\, but not as much its tone; their instruments tend to sound like any number of things at any given time. \nNone of the members of Palm are formally trained on their instruments. The band formed in 2011 at college in Upstate New York\, when high school friends Eve and Kasra met Gerasimos and Hugo. In those early days\, the band was just beginning to forge its collective musical identity through experiments in recording and performing live. \nTheir first album\, Trading Basics (2015)\, was written in Hudson\, NY\, a riverside outpost where the group could clarify its intentions outside the direct influence of nearby cultural capitals. That year\, the members of Palm relocated to Philadelphia\, where they continue to live only a few blocks apart from one another. This proximity has facilitated a level of collaboration necessary for a sound so slippery to remain in the firm grasp of its players. \nOn 2017’s Shadow Expert EP\, they made use of the steady hand granted by a tireless touring schedule\, cutting their songs to efficiencies of pop confection without sacrificing the avant-adventurism at the center. The effort was met with praise from such outlets as Pitchfork\, Stereogum\, Spin\, and Tiny Mix Tapes\, who likened the sound variously to Stereolab\, Slint\, Sonic Youth and Broadcast. With Rock Island (2018)\, Palm excuses the company of these myriad influences with a sly brush of a hand\, ushering the listener into a new domain\, thrillingly strange for all its familiarity.
URL:https://hifiindy.com/event/real-estate-the-main-tour/
END:VEVENT
BEGIN:VEVENT
DTSTART;TZID=America/Indiana/Indianapolis:20211111T190000
DTEND;TZID=America/Indiana/Indianapolis:20211111T223000
DTSTAMP:20260423T104313
CREATED:20210823T140048Z
LAST-MODIFIED:20211021T195649Z
UID:13853-1636657200-1636669800@hifiindy.com
SUMMARY:Thumpasaurus
DESCRIPTION:
URL:https://hifiindy.com/event/thumpasaurus/
LOCATION:FOXD’LEGND
END:VEVENT
BEGIN:VEVENT
DTSTART;TZID=America/Indiana/Indianapolis:20211112T210000
DTEND;TZID=America/Indiana/Indianapolis:20211112T233000
DTSTAMP:20260423T104313
CREATED:20210615T160046Z
LAST-MODIFIED:20210615T160046Z
UID:14189-1636750800-1636759800@hifiindy.com
SUMMARY:San Fermin
DESCRIPTION:
URL:https://hifiindy.com/event/san-fermin/
END:VEVENT
BEGIN:VEVENT
DTSTART;TZID=America/Indiana/Indianapolis:20211113T200000
DTEND;TZID=America/Indiana/Indianapolis:20211113T233000
DTSTAMP:20260423T104313
CREATED:20210330T161112Z
LAST-MODIFIED:20210923T170948Z
UID:12917-1636833600-1636846200@hifiindy.com
SUMMARY:King Buffalo
DESCRIPTION:
URL:https://hifiindy.com/event/king-buffalo/
END:VEVENT
BEGIN:VEVENT
DTSTART;TZID=America/Indiana/Indianapolis:20211114T190000
DTEND;TZID=America/Indiana/Indianapolis:20211114T220000
DTSTAMP:20260423T104313
CREATED:20210914T170317Z
LAST-MODIFIED:20211021T234354Z
UID:13990-1636916400-1636927200@hifiindy.com
SUMMARY:The Ike Reilly Assassination
DESCRIPTION:
URL:https://hifiindy.com/event/the-ike-reilly-assassination/
LOCATION:FOXD’LEGND
END:VEVENT
BEGIN:VEVENT
DTSTART;TZID=America/Indiana/Indianapolis:20211114T200000
DTEND;TZID=America/Indiana/Indianapolis:20211114T233000
DTSTAMP:20260423T104313
CREATED:20210729T150008Z
LAST-MODIFIED:20211112T184543Z
UID:13707-1636920000-1636932600@hifiindy.com
SUMMARY:Hayes Carll
DESCRIPTION:
URL:https://hifiindy.com/event/hayes-carll/
END:VEVENT
BEGIN:VEVENT
DTSTART;TZID=America/Indiana/Indianapolis:20211117T200000
DTEND;TZID=America/Indiana/Indianapolis:20211117T233000
DTSTAMP:20260423T104313
CREATED:20210630T200034Z
LAST-MODIFIED:20211112T212345Z
UID:13562-1637179200-1637191800@hifiindy.com
SUMMARY:Cold
DESCRIPTION:
URL:https://hifiindy.com/event/cold/
END:VEVENT
BEGIN:VEVENT
DTSTART;TZID=America/Indiana/Indianapolis:20211118T210000
DTEND;TZID=America/Indiana/Indianapolis:20211118T233000
DTSTAMP:20260423T104313
CREATED:20210922T145943Z
LAST-MODIFIED:20210923T174545Z
UID:14003-1637269200-1637278200@hifiindy.com
SUMMARY:Senora May
DESCRIPTION:
URL:https://hifiindy.com/event/senora-may/
END:VEVENT
BEGIN:VEVENT
DTSTART;TZID=America/Indiana/Indianapolis:20211120T200000
DTEND;TZID=America/Indiana/Indianapolis:20211120T233000
DTSTAMP:20260423T104313
CREATED:20210727T040034Z
LAST-MODIFIED:20211117T153519Z
UID:12982-1637438400-1637451000@hifiindy.com
SUMMARY:Neal Francis
DESCRIPTION:
URL:https://hifiindy.com/event/neal-francis/
END:VEVENT
BEGIN:VEVENT
DTSTART;TZID=America/Indiana/Indianapolis:20211124T200000
DTEND;TZID=America/Indiana/Indianapolis:20211124T233000
DTSTAMP:20260423T104313
CREATED:20210825T140015Z
LAST-MODIFIED:20211006T215938Z
UID:13881-1637784000-1637796600@hifiindy.com
SUMMARY:Huckleberry Funk
DESCRIPTION:
URL:https://hifiindy.com/event/huckleberry-funk-2-2/
END:VEVENT
BEGIN:VEVENT
DTSTART;TZID=America/Indiana/Indianapolis:20211126T200000
DTEND;TZID=America/Indiana/Indianapolis:20211126T233000
DTSTAMP:20260423T104313
CREATED:20210809T143447Z
LAST-MODIFIED:20211111T211443Z
UID:13780-1637956800-1637969400@hifiindy.com
SUMMARY:Dizgo
DESCRIPTION:
URL:https://hifiindy.com/event/dizgo-2/
END:VEVENT
BEGIN:VEVENT
DTSTART;TZID=America/Indiana/Indianapolis:20211127T210000
DTEND;TZID=America/Indiana/Indianapolis:20211127T233000
DTSTAMP:20260423T104313
CREATED:20210811T150001Z
LAST-MODIFIED:20211011T222049Z
UID:13800-1638046800-1638055800@hifiindy.com
SUMMARY:Arlo  McKinley
DESCRIPTION:
URL:https://hifiindy.com/event/arlo-mckinley-2/
END:VEVENT
BEGIN:VEVENT
DTSTART;TZID=America/Indiana/Indianapolis:20211130T200000
DTEND;TZID=America/Indiana/Indianapolis:20211130T233000
DTSTAMP:20260423T104313
CREATED:20210628T140053Z
LAST-MODIFIED:20211102T162918Z
UID:13537-1638302400-1638315000@hifiindy.com
SUMMARY:Slow Pulp
DESCRIPTION:
URL:https://hifiindy.com/event/slow-pulp/
END:VEVENT
END:VCALENDAR